BEGIN:VCALENDAR
VERSION:2.0
PRODID:-//University United Methodist Church - ECPv6.6.0.2//NONSGML v1.0//EN
CALSCALE:GREGORIAN
METHOD:PUBLISH
X-WR-CALNAME:University United Methodist Church
X-ORIGINAL-URL:https://uumc-lc.org
X-WR-CALDESC:Events for University United Methodist Church
REFRESH-INTERVAL;VALUE=DURATION:PT1H
X-Robots-Tag:noindex
X-PUBLISHED-TTL:PT1H
BEGIN:VTIMEZONE
TZID:America/Denver
BEGIN:DAYLIGHT
TZOFFSETFROM:-0700
TZOFFSETTO:-0600
TZNAME:MDT
DTSTART:20260308T090000
END:DAYLIGHT
BEGIN:STANDARD
TZOFFSETFROM:-0600
TZOFFSETTO:-0700
TZNAME:MST
DTSTART:20261101T080000
END:STANDARD
END:VTIMEZONE
BEGIN:VEVENT
DTSTART;TZID=America/Denver:20260422T171500
DTEND;TZID=America/Denver:20260422T193000
DTSTAMP:20260422T015143
CREATED:20260420T160237Z
LAST-MODIFIED:20260420T161438Z
UID:34045-1776878100-1776886200@uumc-lc.org
SUMMARY:Roundtable
DESCRIPTION:All mission leaders roundtable meeting.
URL:https://uumc-lc.org/event/roundtable/
CATEGORIES:Special Events
ATTACH;FMTTYPE=image/jpeg:https://uumc-lc.org/wp-content/uploads/2026/04/roundtable.jpg
END:VEVENT
END:VCALENDAR