BEGIN:VCALENDAR
VERSION:2.0
PRODID:-//University United Methodist Church - ECPv6.6.0.2//NONSGML v1.0//EN
CALSCALE:GREGORIAN
METHOD:PUBLISH
X-ORIGINAL-URL:https://uumc-lc.org
X-WR-CALDESC:Events for University United Methodist Church
REFRESH-INTERVAL;VALUE=DURATION:PT1H
X-Robots-Tag:noindex
X-PUBLISHED-TTL:PT1H
BEGIN:VTIMEZONE
TZID:America/Denver
BEGIN:DAYLIGHT
TZOFFSETFROM:-0700
TZOFFSETTO:-0600
TZNAME:MDT
DTSTART:20250309T090000
END:DAYLIGHT
BEGIN:STANDARD
TZOFFSETFROM:-0600
TZOFFSETTO:-0700
TZNAME:MST
DTSTART:20251102T080000
END:STANDARD
END:VTIMEZONE
BEGIN:VEVENT
DTSTART;TZID=America/Denver:20251003T180000
DTEND;TZID=America/Denver:20251003T193000
DTSTAMP:20260422T202652
CREATED:20250915T153936Z
LAST-MODIFIED:20250923T180000Z
UID:33641-1759514400-1759519800@uumc-lc.org
SUMMARY:Recital NMSU Voice Duo Recital
DESCRIPTION:Come join us October 3rd at 6pm for the NMSU Voices in Song. An evening of beautiful music performed by the talented singers of NMSU Voice arena. \nAdmission is free. \nDonations are welcomed and will support students’ participation in vocal competitions and festivals.
URL:https://uumc-lc.org/event/recital-nmsu-voice-duo-recital/
CATEGORIES:Special Events
ATTACH;FMTTYPE=image/jpeg:https://uumc-lc.org/wp-content/uploads/2025/09/Voice-in-song.jpeg
END:VEVENT
BEGIN:VEVENT
DTSTART;TZID=America/Denver:20251005T080000
DTEND;TZID=America/Denver:20251005T170000
DTSTAMP:20260422T202652
CREATED:20250915T154052Z
LAST-MODIFIED:20250915T154204Z
UID:33643-1759651200-1759683600@uumc-lc.org
SUMMARY:Potluck (no communion)
DESCRIPTION:
URL:https://uumc-lc.org/event/potluck-no-communion/
CATEGORIES:Special Events
ATTACH;FMTTYPE=image/png:https://uumc-lc.org/wp-content/uploads/2025/01/church-potluck.png
END:VEVENT
BEGIN:VEVENT
DTSTART;VALUE=DATE:20251012
DTEND;VALUE=DATE:20251013
DTSTAMP:20260422T202652
CREATED:20250915T154323Z
LAST-MODIFIED:20250915T154323Z
UID:33647-1760227200-1760313599@uumc-lc.org
SUMMARY:Commitment Sunday (communion)
DESCRIPTION:
URL:https://uumc-lc.org/event/commitment-sunday-communion/
CATEGORIES:Special Events
ATTACH;FMTTYPE=image/jpeg:https://uumc-lc.org/wp-content/uploads/2025/01/IMG_1395-rotated.jpeg
END:VEVENT
BEGIN:VEVENT
DTSTART;TZID=America/Denver:20251017T180000
DTEND;TZID=America/Denver:20251017T193000
DTSTAMP:20260422T202652
CREATED:20250915T154519Z
LAST-MODIFIED:20250915T155534Z
UID:33649-1760724000-1760729400@uumc-lc.org
SUMMARY:Pumpkin Painting for Everyone!!
DESCRIPTION:
URL:https://uumc-lc.org/event/pumpkin-painting-for-everyone/
CATEGORIES:Special Events
ATTACH;FMTTYPE=image/jpeg:https://uumc-lc.org/wp-content/uploads/2025/09/pumpkin-painting.jpg
END:VEVENT
END:VCALENDAR