BEGIN:VCALENDAR
VERSION:2.0
PRODID:-//University United Methodist Church - ECPv6.6.0.2//NONSGML v1.0//EN
CALSCALE:GREGORIAN
METHOD:PUBLISH
X-ORIGINAL-URL:https://uumc-lc.org
X-WR-CALDESC:Events for University United Methodist Church
REFRESH-INTERVAL;VALUE=DURATION:PT1H
X-Robots-Tag:noindex
X-PUBLISHED-TTL:PT1H
BEGIN:VTIMEZONE
TZID:America/Denver
BEGIN:DAYLIGHT
TZOFFSETFROM:-0700
TZOFFSETTO:-0600
TZNAME:MDT
DTSTART:20260308T090000
END:DAYLIGHT
BEGIN:STANDARD
TZOFFSETFROM:-0600
TZOFFSETTO:-0700
TZNAME:MST
DTSTART:20261101T080000
END:STANDARD
END:VTIMEZONE
BEGIN:VEVENT
DTSTART;TZID=America/Denver:20260521T170000
DTEND;TZID=America/Denver:20260521T190000
DTSTAMP:20260423T000551
CREATED:20260420T161111Z
LAST-MODIFIED:20260420T161111Z
UID:34049-1779382800-1779390000@uumc-lc.org
SUMMARY:BBLC/UUMC Potluck picnic
DESCRIPTION:Join BBLC and UUMC for the annual potluck picnic. Please bring a dish to share and enjoy a meal with our church and school family.
URL:https://uumc-lc.org/event/bblc-uumc-potluck-picnic/
LOCATION:NM
CATEGORIES:Special Events
ATTACH;FMTTYPE=image/webp:https://uumc-lc.org/wp-content/uploads/2026/04/picnic-basket.webp
END:VEVENT
END:VCALENDAR