BEGIN:VCALENDAR
VERSION:2.0
PRODID:-//University United Methodist Church - ECPv6.6.0.2//NONSGML v1.0//EN
CALSCALE:GREGORIAN
METHOD:PUBLISH
X-ORIGINAL-URL:https://uumc-lc.org
X-WR-CALDESC:Events for University United Methodist Church
REFRESH-INTERVAL;VALUE=DURATION:PT1H
X-Robots-Tag:noindex
X-PUBLISHED-TTL:PT1H
BEGIN:VTIMEZONE
TZID:America/Denver
BEGIN:DAYLIGHT
TZOFFSETFROM:-0700
TZOFFSETTO:-0600
TZNAME:MDT
DTSTART:20250309T090000
END:DAYLIGHT
BEGIN:STANDARD
TZOFFSETFROM:-0600
TZOFFSETTO:-0700
TZNAME:MST
DTSTART:20251102T080000
END:STANDARD
BEGIN:DAYLIGHT
TZOFFSETFROM:-0700
TZOFFSETTO:-0600
TZNAME:MDT
DTSTART:20260308T090000
END:DAYLIGHT
BEGIN:STANDARD
TZOFFSETFROM:-0600
TZOFFSETTO:-0700
TZNAME:MST
DTSTART:20261101T080000
END:STANDARD
END:VTIMEZONE
BEGIN:VEVENT
DTSTART;VALUE=DATE:20250615
DTEND;VALUE=DATE:20250616
DTSTAMP:20260423T175904
CREATED:20250520T180453Z
LAST-MODIFIED:20250609T165856Z
UID:33504-1749945600-1750031999@uumc-lc.org
SUMMARY:Trinity Sunday\, Father's Day 8:30am &11:00am services
DESCRIPTION:
URL:https://uumc-lc.org/event/trinity-sunday-fathers-day/
CATEGORIES:Special Events
ATTACH;FMTTYPE=image/jpeg:https://uumc-lc.org/wp-content/uploads/2025/05/image-fathers-day.jpg
END:VEVENT
BEGIN:VEVENT
DTSTART;TZID=America/Denver:20250615T113000
DTEND;TZID=America/Denver:20250615T113000
DTSTAMP:20260423T175904
CREATED:20250520T180139Z
LAST-MODIFIED:20250609T170003Z
UID:33501-1749987000-1749987000@uumc-lc.org
SUMMARY:Youth Send off to Arvada\, Colorado
DESCRIPTION:Come join us to send off our Youth group on their Mission Trip to Arvada Colorado.
URL:https://uumc-lc.org/event/youth-send-off-to-arvada-colorado/
LOCATION:University United Methodist Church\, 2000 S Locust St\, Las Cruces\, NM\, 88001\, United States
CATEGORIES:Special Events
ATTACH;FMTTYPE=image/jpeg:https://uumc-lc.org/wp-content/uploads/2025/05/Youth-Mission-group-2025.jpeg
END:VEVENT
BEGIN:VEVENT
DTSTART;TZID=America/Denver:20250615T163000
DTEND;TZID=America/Denver:20250615T180000
DTSTAMP:20260423T175904
CREATED:20250604T185951Z
LAST-MODIFIED:20250609T172223Z
UID:33517-1750005000-1750010400@uumc-lc.org
SUMMARY:Summer Fun Days
DESCRIPTION:Ready for Summer? \nSummer Evening Fun For families is just around the corner. \nPlease spread the word and check it out yourself. \nSunday Fun Days \nFun Starting June 8th through July 27th \nBring your favorite game and snack! \nThis is a wonderful opportunity to meet new friends and deepen old bonds with old friends!!
URL:https://uumc-lc.org/event/summer-fun-days/
LOCATION:University United Methodist Church\, 2000 S Locust St\, Las Cruces\, NM\, 88001\, United States
CATEGORIES:Special Events
ATTACH;FMTTYPE=image/png:https://uumc-lc.org/wp-content/uploads/2025/06/summer-fun-days.png
END:VEVENT
BEGIN:VEVENT
DTSTART;TZID=America/Denver:20250622T163000
DTEND;TZID=America/Denver:20250622T180000
DTSTAMP:20260423T175904
CREATED:20250604T190046Z
LAST-MODIFIED:20250609T172518Z
UID:33519-1750609800-1750615200@uumc-lc.org
SUMMARY:Summer Fun Days
DESCRIPTION:Ready for Summer? \nSummer Evening Fun For families is just around the corner. \nPlease spread the word and check it out yourself. \nSunday Fun Days \nFun Starting June 8th through July 27th \nBring your favorite game and snack! \nThis is a wonderful opportunity to meet new friends and deepen old bonds with old friends!!
URL:https://uumc-lc.org/event/summer-fun-days-2/
LOCATION:University United Methodist Church\, 2000 S Locust St\, Las Cruces\, NM\, 88001\, United States
CATEGORIES:Special Events
ATTACH;FMTTYPE=image/png:https://uumc-lc.org/wp-content/uploads/2025/06/summer-fun-days.png
END:VEVENT
BEGIN:VEVENT
DTSTART;TZID=America/Denver:20250629T163000
DTEND;TZID=America/Denver:20250629T180000
DTSTAMP:20260423T175904
CREATED:20250604T190300Z
LAST-MODIFIED:20250609T172156Z
UID:33523-1751214600-1751220000@uumc-lc.org
SUMMARY:Summer Fun Days
DESCRIPTION:Ready for Summer? \nSummer Evening Fun For families is just around the corner. \nPlease spread the word and check it out yourself. \nSunday Fun Days \nFun Starting June 8th through July 27th \nBring your favorite game and snack! \nThis is a wonderful opportunity to meet new friends and deepen old bonds with old friends!!
URL:https://uumc-lc.org/event/summer-fun-days-4/
LOCATION:University United Methodist Church\, 2000 S Locust St\, Las Cruces\, NM\, 88001\, United States
CATEGORIES:Special Events
ATTACH;FMTTYPE=image/png:https://uumc-lc.org/wp-content/uploads/2025/06/summer-fun-days.png
END:VEVENT
BEGIN:VEVENT
DTSTART;TZID=America/Denver:20250706T170000
DTEND;TZID=America/Denver:20250706T180000
DTSTAMP:20260423T175904
CREATED:20250604T190146Z
LAST-MODIFIED:20250609T172131Z
UID:33521-1751821200-1751824800@uumc-lc.org
SUMMARY:Summer Fun Days
DESCRIPTION:Ready for Summer? \nSummer Evening Fun For families is just around the corner. \nPlease spread the word and check it out yourself. \nSunday Fun Days \nFun Starting June 8th through July 27th \nBring your favorite game and snack! \nThis is a wonderful opportunity to meet new friends and deepen old bonds with old friends!!
URL:https://uumc-lc.org/event/summer-fun-days-3/
LOCATION:University United Methodist Church\, 2000 S Locust St\, Las Cruces\, NM\, 88001\, United States
CATEGORIES:Special Events
ATTACH;FMTTYPE=image/png:https://uumc-lc.org/wp-content/uploads/2025/06/summer-fun-days.png
END:VEVENT
BEGIN:VEVENT
DTSTART;TZID=America/Denver:20250713T163000
DTEND;TZID=America/Denver:20250713T180000
DTSTAMP:20260423T175904
CREATED:20250604T190807Z
LAST-MODIFIED:20250609T172040Z
UID:33526-1752424200-1752429600@uumc-lc.org
SUMMARY:Summer Fun Days
DESCRIPTION:Ready for Summer? \nSummer Evening Fun For families is just around the corner. \nPlease spread the word and check it out yourself. \nSunday Fun Days \nFun Starting June 8th through July 27th \nBring your favorite game and snack! \nThis is a wonderful opportunity to meet new friends and deepen old bonds with old friends!!
URL:https://uumc-lc.org/event/summer-fun-days-5/
LOCATION:University United Methodist Church\, 2000 S Locust St\, Las Cruces\, NM\, 88001\, United States
CATEGORIES:Special Events
ATTACH;FMTTYPE=image/png:https://uumc-lc.org/wp-content/uploads/2025/06/summer-fun-days.png
END:VEVENT
BEGIN:VEVENT
DTSTART;TZID=America/Denver:20250727T163000
DTEND;TZID=America/Denver:20250727T180000
DTSTAMP:20260423T175904
CREATED:20250604T191937Z
LAST-MODIFIED:20250609T171943Z
UID:33531-1753633800-1753639200@uumc-lc.org
SUMMARY:Summer Fun Days
DESCRIPTION:Ready for Summer? \nSummer Evening Fun For families is just around the corner. \nPlease spread the word and check it out yourself. \nSunday Fun Days \nFun Starting June 8th through July 27th \nBring your favorite game and snack! \nThis is a wonderful opportunity to meet new friends and deepen old bonds with old friends!!
URL:https://uumc-lc.org/event/summer-fun-days-7/
LOCATION:University United Methodist Church\, 2000 S Locust St\, Las Cruces\, NM\, 88001\, United States
CATEGORIES:Special Events
ATTACH;FMTTYPE=image/png:https://uumc-lc.org/wp-content/uploads/2025/06/summer-fun-days.png
END:VEVENT
BEGIN:VEVENT
DTSTART;VALUE=DATE:20250808
DTEND;VALUE=DATE:20250809
DTSTAMP:20260423T175904
CREATED:20250715T164906Z
LAST-MODIFIED:20250715T165350Z
UID:33547-1754611200-1754697599@uumc-lc.org
SUMMARY:Prayer Vigil for the New School Year
DESCRIPTION:
URL:https://uumc-lc.org/event/prayer-vigil-for-the-new-school-year-2/
CATEGORIES:Special Events
ATTACH;FMTTYPE=image/jpeg:https://uumc-lc.org/wp-content/uploads/2025/07/bblc.jpg
END:VEVENT
BEGIN:VEVENT
DTSTART;VALUE=DATE:20250815
DTEND;VALUE=DATE:20250817
DTSTAMP:20260423T175904
CREATED:20250715T164624Z
LAST-MODIFIED:20250812T200201Z
UID:33545-1755216000-1755388799@uumc-lc.org
SUMMARY:Prayer Vigil for the New School Year
DESCRIPTION:That’s right\, we’re launching the year with 30 hours of continuous prayer beginning 8am\, Fri.\, Aug. 15 to 2pm Sat.\, Aug. 16\, so we need your help! Join other families\, along with our classes\, teachers and church members to keep the prayer going. \nHow does it work? Sign up for a designate time\, and then pray during that time for our school\, children\, teachers and families. \nNew to prayer or not sure what to pray for? No worries!! We’ll have ideas\, suggestions and resources available to get you started. \nDon’t have much time? Any time in prayer is fruitful!!! \nNot sure where to pray? Anywhere will work-here at the school-church (Friday only)\, at home or at a favorite quiet place.
URL:https://uumc-lc.org/event/prayer-vigil-for-the-new-school-year/
CATEGORIES:Special Events
ATTACH;FMTTYPE=image/png:https://uumc-lc.org/wp-content/uploads/2025/07/back-to-shcool.png
END:VEVENT
BEGIN:VEVENT
DTSTART;VALUE=DATE:20250905
DTEND;VALUE=DATE:20250906
DTSTAMP:20260423T175904
CREATED:20250715T165437Z
LAST-MODIFIED:20250715T165859Z
UID:33550-1757030400-1757116799@uumc-lc.org
SUMMARY:Grandparents Day
DESCRIPTION:
URL:https://uumc-lc.org/event/grandparents-day/
CATEGORIES:Special Events
ATTACH;FMTTYPE=image/jpeg:https://uumc-lc.org/wp-content/uploads/2025/07/IMG_4210.jpeg
END:VEVENT
BEGIN:VEVENT
DTSTART;VALUE=DATE:20250921
DTEND;VALUE=DATE:20250922
DTSTAMP:20260423T175904
CREATED:20250915T153822Z
LAST-MODIFIED:20250915T173029Z
UID:33639-1758412800-1758499199@uumc-lc.org
SUMMARY:Kairos Cookie Drive Wrap up
DESCRIPTION:Kairos is a program like the Walk to Emmaus and similar programs\, that hosts a 4-day event inside prisons to help build communities of faith within the prison population. Locally\, a team of men are preparing to host a Kairos weekend inside the Southern New Mexico Correctional Facility\, just outside Las Cruces\, September 25-28\, with a team of men and women supporting them outside the prison. It is an incredible experience and there are many ways you can support this team. We need people for prayer vigils\, to write prayer messages\, to bake cookies\, to decorate placements\, to donate money\, and much more.
URL:https://uumc-lc.org/event/kairos-cookie-drive-wrap-up/
CATEGORIES:Special Events
ATTACH;FMTTYPE=image/jpeg:https://uumc-lc.org/wp-content/uploads/2025/09/Kairos-ookies.jpeg
END:VEVENT
BEGIN:VEVENT
DTSTART;TZID=America/Denver:20251003T180000
DTEND;TZID=America/Denver:20251003T193000
DTSTAMP:20260423T175904
CREATED:20250915T153936Z
LAST-MODIFIED:20250923T180000Z
UID:33641-1759514400-1759519800@uumc-lc.org
SUMMARY:Recital NMSU Voice Duo Recital
DESCRIPTION:Come join us October 3rd at 6pm for the NMSU Voices in Song. An evening of beautiful music performed by the talented singers of NMSU Voice arena. \nAdmission is free. \nDonations are welcomed and will support students’ participation in vocal competitions and festivals.
URL:https://uumc-lc.org/event/recital-nmsu-voice-duo-recital/
CATEGORIES:Special Events
ATTACH;FMTTYPE=image/jpeg:https://uumc-lc.org/wp-content/uploads/2025/09/Voice-in-song.jpeg
END:VEVENT
BEGIN:VEVENT
DTSTART;TZID=America/Denver:20251005T080000
DTEND;TZID=America/Denver:20251005T170000
DTSTAMP:20260423T175904
CREATED:20250915T154052Z
LAST-MODIFIED:20250915T154204Z
UID:33643-1759651200-1759683600@uumc-lc.org
SUMMARY:Potluck (no communion)
DESCRIPTION:
URL:https://uumc-lc.org/event/potluck-no-communion/
CATEGORIES:Special Events
ATTACH;FMTTYPE=image/png:https://uumc-lc.org/wp-content/uploads/2025/01/church-potluck.png
END:VEVENT
BEGIN:VEVENT
DTSTART;VALUE=DATE:20251012
DTEND;VALUE=DATE:20251013
DTSTAMP:20260423T175904
CREATED:20250915T154323Z
LAST-MODIFIED:20250915T154323Z
UID:33647-1760227200-1760313599@uumc-lc.org
SUMMARY:Commitment Sunday (communion)
DESCRIPTION:
URL:https://uumc-lc.org/event/commitment-sunday-communion/
CATEGORIES:Special Events
ATTACH;FMTTYPE=image/jpeg:https://uumc-lc.org/wp-content/uploads/2025/01/IMG_1395-rotated.jpeg
END:VEVENT
BEGIN:VEVENT
DTSTART;TZID=America/Denver:20251017T180000
DTEND;TZID=America/Denver:20251017T193000
DTSTAMP:20260423T175904
CREATED:20250915T154519Z
LAST-MODIFIED:20250915T155534Z
UID:33649-1760724000-1760729400@uumc-lc.org
SUMMARY:Pumpkin Painting for Everyone!!
DESCRIPTION:
URL:https://uumc-lc.org/event/pumpkin-painting-for-everyone/
CATEGORIES:Special Events
ATTACH;FMTTYPE=image/jpeg:https://uumc-lc.org/wp-content/uploads/2025/09/pumpkin-painting.jpg
END:VEVENT
BEGIN:VEVENT
DTSTART;VALUE=DATE:20251121
DTEND;VALUE=DATE:20251122
DTSTAMP:20260423T175904
CREATED:20250812T202306Z
LAST-MODIFIED:20250818T201122Z
UID:33576-1763683200-1763769599@uumc-lc.org
SUMMARY:Thanksgiving Potluck of BBLC Art Auction
DESCRIPTION:
URL:https://uumc-lc.org/event/thanksgiving-potluck-and-art-auction/
CATEGORIES:Special Events
ATTACH;FMTTYPE=image/jpeg:https://uumc-lc.org/wp-content/uploads/2025/08/Art-Auction.jpg
END:VEVENT
BEGIN:VEVENT
DTSTART;VALUE=DATE:20251130
DTEND;VALUE=DATE:20251201
DTSTAMP:20260423T175904
CREATED:20250812T203150Z
LAST-MODIFIED:20251028T201921Z
UID:33580-1764460800-1764547199@uumc-lc.org
SUMMARY:1st Week of Advent- 8:30am\, 9:45am\, 11am
DESCRIPTION:  \n 
URL:https://uumc-lc.org/event/1st-advent-wreath-making-830am-945am-11am/
CATEGORIES:Special Events
ATTACH;FMTTYPE=image/jpeg:https://uumc-lc.org/wp-content/uploads/2025/08/1st-week-of-Advent.jpeg
END:VEVENT
BEGIN:VEVENT
DTSTART;VALUE=DATE:20251130
DTEND;VALUE=DATE:20251201
DTSTAMP:20260423T175904
CREATED:20251028T160410Z
LAST-MODIFIED:20251028T160507Z
UID:33669-1764460800-1764547199@uumc-lc.org
SUMMARY:Angel Tree Operation starts
DESCRIPTION:Pick a name from our tree and buy a child the gift noted on the angel and return before December 14th.
URL:https://uumc-lc.org/event/angel-tree-operation-starts/
CATEGORIES:Special Events
ATTACH;FMTTYPE=image/jpeg:https://uumc-lc.org/wp-content/uploads/2025/08/Angel-Tree-2024.jpeg
END:VEVENT
BEGIN:VEVENT
DTSTART;TZID=America/Denver:20251224T180000
DTEND;TZID=America/Denver:20251224T190000
DTSTAMP:20260423T175904
CREATED:20251028T172242Z
LAST-MODIFIED:20251223T162340Z
UID:33705-1766599200-1766602800@uumc-lc.org
SUMMARY:Christmas Eve Service 6pm
DESCRIPTION:Join us at 6pm for Christmas Eve services at UUMC Sanctuary.
URL:https://uumc-lc.org/event/christmas-eve-service-6pm/
LOCATION:University United Methodist Church\, 2000 S Locust St\, Las Cruces\, NM\, 88001\, United States
CATEGORIES:Special Events
ATTACH;FMTTYPE=image/jpeg:https://uumc-lc.org/wp-content/uploads/2025/10/Christmas-Eve-Service.jpeg
END:VEVENT
BEGIN:VEVENT
DTSTART;TZID=America/Denver:20251231T150000
DTEND;TZID=America/Denver:20251231T160000
DTSTAMP:20260423T175904
CREATED:20251223T162116Z
LAST-MODIFIED:20251223T171642Z
UID:33715-1767193200-1767196800@uumc-lc.org
SUMMARY:New Year's Eve Meditation
DESCRIPTION:Come Join us for \nNew Year’s Eve Meditation with: \nMarica Maynes \nJill Smith \nCriag Pearce
URL:https://uumc-lc.org/event/new-years-eve-meditation/
LOCATION:University United Methodist Church\, 2000 S Locust St\, Las Cruces\, NM\, 88001\, United States
CATEGORIES:Special Events
ATTACH;FMTTYPE=image/jpeg:https://uumc-lc.org/wp-content/uploads/2025/12/New-Year-2026.jpeg
END:VEVENT
BEGIN:VEVENT
DTSTART;VALUE=DATE:20260104
DTEND;VALUE=DATE:20260105
DTSTAMP:20260423T175904
CREATED:20251223T163534Z
LAST-MODIFIED:20251229T165025Z
UID:33723-1767484800-1767571199@uumc-lc.org
SUMMARY:Epiphany Service with Communion at 830\, 945 and 11am
DESCRIPTION:Join us for Epiphany Service with Communion. \nRev. Dr. Heike Miller
URL:https://uumc-lc.org/event/epiphany-service-with-communion-2/
LOCATION:University United Methodist Church\, 2000 S Locust St\, Las Cruces\, NM\, 88001\, United States
CATEGORIES:Special Events
ATTACH;FMTTYPE=image/png:https://uumc-lc.org/wp-content/uploads/2025/12/Epiphany.png
END:VEVENT
BEGIN:VEVENT
DTSTART;TZID=America/Denver:20260104T120000
DTEND;TZID=America/Denver:20260104T130000
DTSTAMP:20260423T175904
CREATED:20251223T171833Z
LAST-MODIFIED:20251223T171833Z
UID:33737-1767528000-1767531600@uumc-lc.org
SUMMARY:Potluck Sunday
DESCRIPTION:Join us after the 11am service for potluck in the Fellowship Hall. \nBring a dish to share.
URL:https://uumc-lc.org/event/potluck-sunday/
LOCATION:University United Methodist Church\, 2000 S Locust St\, Las Cruces\, NM\, 88001\, United States
CATEGORIES:Special Events
ATTACH;FMTTYPE=image/jpeg:https://uumc-lc.org/wp-content/uploads/2025/12/Potluck-Sunday-image3.jpeg
END:VEVENT
BEGIN:VEVENT
DTSTART;TZID=America/Denver:20260212T180000
DTEND;TZID=America/Denver:20260212T191500
DTSTAMP:20260423T175904
CREATED:20260211T171110Z
LAST-MODIFIED:20260211T171110Z
UID:33744-1770919200-1770923700@uumc-lc.org
SUMMARY:Valentine's Dance
DESCRIPTION:We’re ready to celebrate! Bright Beginnings is hosting a Valentines Day Dance for families with children of all ages. \nJoin us for this fun family event\, complete with lots of dancing\, good music\, and light snacks! To help wrap up our Canned Food Drive\, admission will be one non-perishable food item per person.
URL:https://uumc-lc.org/event/valentines-dance/
CATEGORIES:Special Events
ATTACH;FMTTYPE=image/jpeg:https://uumc-lc.org/wp-content/uploads/2026/02/Valentines-Day.jpeg
END:VEVENT
BEGIN:VEVENT
DTSTART;TZID=America/Denver:20260218T180000
DTEND;TZID=America/Denver:20260218T190000
DTSTAMP:20260423T175904
CREATED:20251223T170446Z
LAST-MODIFIED:20251223T172904Z
UID:33731-1771437600-1771441200@uumc-lc.org
SUMMARY:Ash Wednesday
DESCRIPTION:Join us for Ash Wednesday and Communion Service.
URL:https://uumc-lc.org/event/ash-wednesday-2/
LOCATION:University United Methodist Church\, 2000 S Locust St\, Las Cruces\, NM\, 88001\, United States
CATEGORIES:Special Events
ATTACH;FMTTYPE=image/jpeg:https://uumc-lc.org/wp-content/uploads/2025/12/Altar-communion-bread-wine-candles-bible-image8.jpeg
END:VEVENT
BEGIN:VEVENT
DTSTART;TZID=America/Denver:20260308T091500
DTEND;TZID=America/Denver:20260315T121500
DTSTAMP:20260423T175904
CREATED:20260223T203106Z
LAST-MODIFIED:20260223T204334Z
UID:33770-1772961300-1773576900@uumc-lc.org
SUMMARY:Bookfair
DESCRIPTION:Come and enjoy our Book Fair!! \nCome shop for amazing books and support our Bright Beginnings school. \nThere will be a wide selection of books for pre-K grade levels. \nRemember\, every purchase helps benefit our students and programs.
URL:https://uumc-lc.org/event/bookfair/
CATEGORIES:Special Events
ATTACH;FMTTYPE=image/png:https://uumc-lc.org/wp-content/uploads/2026/02/Bookfair-kids.png
END:VEVENT
BEGIN:VEVENT
DTSTART;TZID=America/Denver:20260422T171500
DTEND;TZID=America/Denver:20260422T193000
DTSTAMP:20260423T175904
CREATED:20260420T160237Z
LAST-MODIFIED:20260420T161438Z
UID:34045-1776878100-1776886200@uumc-lc.org
SUMMARY:Roundtable
DESCRIPTION:All mission leaders roundtable meeting.
URL:https://uumc-lc.org/event/roundtable/
CATEGORIES:Special Events
ATTACH;FMTTYPE=image/jpeg:https://uumc-lc.org/wp-content/uploads/2026/04/roundtable.jpg
END:VEVENT
BEGIN:VEVENT
DTSTART;TZID=America/Denver:20260503T083000
DTEND;TZID=America/Denver:20260503T230000
DTSTAMP:20260423T175904
CREATED:20260324T152245Z
LAST-MODIFIED:20260324T152245Z
UID:34008-1777797000-1777849200@uumc-lc.org
SUMMARY:Graduation Day 8:30am\, 945am and 11am
DESCRIPTION:Please join us for Graduation Day! We would love to have you and your family attend.
URL:https://uumc-lc.org/event/graduation-day-830am-945am-and-11am/
CATEGORIES:Special Events
ATTACH;FMTTYPE=image/jpeg:https://uumc-lc.org/wp-content/uploads/2026/03/Class-of-2026.jpg
END:VEVENT
BEGIN:VEVENT
DTSTART;TZID=America/Denver:20260503T173000
DTEND;TZID=America/Denver:20260503T183000
DTSTAMP:20260423T175904
CREATED:20260324T152439Z
LAST-MODIFIED:20260324T152439Z
UID:34011-1777829400-1777833000@uumc-lc.org
SUMMARY:Lasagne Dinner
DESCRIPTION:Please join us for Lasagne Dinner. All are welcome to attend.
URL:https://uumc-lc.org/event/lasagne-dinner/
CATEGORIES:Special Events
ATTACH;FMTTYPE=image/jpeg:https://uumc-lc.org/wp-content/uploads/2026/03/Lasagne-dinner.jpeg
END:VEVENT
BEGIN:VEVENT
DTSTART;TZID=America/Denver:20260510T083000
DTEND;TZID=America/Denver:20260510T110000
DTSTAMP:20260423T175904
CREATED:20260324T153334Z
LAST-MODIFIED:20260324T153334Z
UID:34017-1778401800-1778410800@uumc-lc.org
SUMMARY:Mother's Day Sunday
DESCRIPTION:Please join our Sunday Service at 830\, 945 and 11am and celebrate our mother’s on their special day.
URL:https://uumc-lc.org/event/mothers-day-sunday/
CATEGORIES:Special Events
ATTACH;FMTTYPE=image/jpeg:https://uumc-lc.org/wp-content/uploads/2026/03/Mothers-day-26.jpeg
END:VEVENT
END:VCALENDAR