BEGIN:VCALENDAR
VERSION:2.0
PRODID:-//University United Methodist Church - ECPv6.6.0.2//NONSGML v1.0//EN
CALSCALE:GREGORIAN
METHOD:PUBLISH
X-WR-CALNAME:University United Methodist Church
X-ORIGINAL-URL:https://uumc-lc.org
X-WR-CALDESC:Events for University United Methodist Church
REFRESH-INTERVAL;VALUE=DURATION:PT1H
X-Robots-Tag:noindex
X-PUBLISHED-TTL:PT1H
BEGIN:VTIMEZONE
TZID:America/Denver
BEGIN:DAYLIGHT
TZOFFSETFROM:-0700
TZOFFSETTO:-0600
TZNAME:MDT
DTSTART:20250309T090000
END:DAYLIGHT
BEGIN:STANDARD
TZOFFSETFROM:-0600
TZOFFSETTO:-0700
TZNAME:MST
DTSTART:20251102T080000
END:STANDARD
BEGIN:DAYLIGHT
TZOFFSETFROM:-0700
TZOFFSETTO:-0600
TZNAME:MDT
DTSTART:20260308T090000
END:DAYLIGHT
BEGIN:STANDARD
TZOFFSETFROM:-0600
TZOFFSETTO:-0700
TZNAME:MST
DTSTART:20261101T080000
END:STANDARD
END:VTIMEZONE
BEGIN:VEVENT
DTSTART;TZID=America/Denver:20251231T150000
DTEND;TZID=America/Denver:20251231T160000
DTSTAMP:20260422T164303
CREATED:20251223T162116Z
LAST-MODIFIED:20251223T171642Z
UID:33715-1767193200-1767196800@uumc-lc.org
SUMMARY:New Year's Eve Meditation
DESCRIPTION:Come Join us for \nNew Year’s Eve Meditation with: \nMarica Maynes \nJill Smith \nCriag Pearce
URL:https://uumc-lc.org/event/new-years-eve-meditation/
LOCATION:University United Methodist Church\, 2000 S Locust St\, Las Cruces\, NM\, 88001\, United States
CATEGORIES:Special Events
ATTACH;FMTTYPE=image/jpeg:https://uumc-lc.org/wp-content/uploads/2025/12/New-Year-2026.jpeg
END:VEVENT
BEGIN:VEVENT
DTSTART;VALUE=DATE:20260104
DTEND;VALUE=DATE:20260105
DTSTAMP:20260422T164303
CREATED:20251223T163534Z
LAST-MODIFIED:20251229T165025Z
UID:33723-1767484800-1767571199@uumc-lc.org
SUMMARY:Epiphany Service with Communion at 830\, 945 and 11am
DESCRIPTION:Join us for Epiphany Service with Communion. \nRev. Dr. Heike Miller
URL:https://uumc-lc.org/event/epiphany-service-with-communion-2/
LOCATION:University United Methodist Church\, 2000 S Locust St\, Las Cruces\, NM\, 88001\, United States
CATEGORIES:Special Events
ATTACH;FMTTYPE=image/png:https://uumc-lc.org/wp-content/uploads/2025/12/Epiphany.png
END:VEVENT
BEGIN:VEVENT
DTSTART;TZID=America/Denver:20260104T120000
DTEND;TZID=America/Denver:20260104T130000
DTSTAMP:20260422T164303
CREATED:20251223T171833Z
LAST-MODIFIED:20251223T171833Z
UID:33737-1767528000-1767531600@uumc-lc.org
SUMMARY:Potluck Sunday
DESCRIPTION:Join us after the 11am service for potluck in the Fellowship Hall. \nBring a dish to share.
URL:https://uumc-lc.org/event/potluck-sunday/
LOCATION:University United Methodist Church\, 2000 S Locust St\, Las Cruces\, NM\, 88001\, United States
CATEGORIES:Special Events
ATTACH;FMTTYPE=image/jpeg:https://uumc-lc.org/wp-content/uploads/2025/12/Potluck-Sunday-image3.jpeg
END:VEVENT
BEGIN:VEVENT
DTSTART;TZID=America/Denver:20260212T180000
DTEND;TZID=America/Denver:20260212T191500
DTSTAMP:20260422T164303
CREATED:20260211T171110Z
LAST-MODIFIED:20260211T171110Z
UID:33744-1770919200-1770923700@uumc-lc.org
SUMMARY:Valentine's Dance
DESCRIPTION:We’re ready to celebrate! Bright Beginnings is hosting a Valentines Day Dance for families with children of all ages. \nJoin us for this fun family event\, complete with lots of dancing\, good music\, and light snacks! To help wrap up our Canned Food Drive\, admission will be one non-perishable food item per person.
URL:https://uumc-lc.org/event/valentines-dance/
CATEGORIES:Special Events
ATTACH;FMTTYPE=image/jpeg:https://uumc-lc.org/wp-content/uploads/2026/02/Valentines-Day.jpeg
END:VEVENT
BEGIN:VEVENT
DTSTART;TZID=America/Denver:20260217T160000
DTEND;TZID=America/Denver:20260217T190000
DTSTAMP:20260422T164303
CREATED:20260211T171517Z
LAST-MODIFIED:20260211T171517Z
UID:33747-1771344000-1771354800@uumc-lc.org
SUMMARY:Shrove Tuesday Pancake Dinner
DESCRIPTION:Join us for Pancake Dinner and Silent Auction.
URL:https://uumc-lc.org/event/shrove-tuesday-pancake-dinner/
LOCATION:2425 Jordan Road\, Las Cruces\, NM\, 2425 Jordan Road\, Las Cruces\, NM\, 88001\, United States
ATTACH;FMTTYPE=image/webp:https://uumc-lc.org/wp-content/uploads/2025/02/3pancake.webp
END:VEVENT
BEGIN:VEVENT
DTSTART;TZID=America/Denver:20260218T083000
DTEND;TZID=America/Denver:20260218T090000
DTSTAMP:20260422T164303
CREATED:20251223T165248Z
LAST-MODIFIED:20260211T192211Z
UID:33729-1771403400-1771405200@uumc-lc.org
SUMMARY:Ashes in the Garden
DESCRIPTION:Join us for Ashes in the Garden.
URL:https://uumc-lc.org/event/ashes-in-the-garden/
LOCATION:University United Methodist Church\, 2000 S Locust St\, Las Cruces\, NM\, 88001\, United States
ATTACH;FMTTYPE=image/jpeg:https://uumc-lc.org/wp-content/uploads/2025/03/community-garden.jpeg
END:VEVENT
BEGIN:VEVENT
DTSTART;TZID=America/Denver:20260218T180000
DTEND;TZID=America/Denver:20260218T190000
DTSTAMP:20260422T164303
CREATED:20251223T170446Z
LAST-MODIFIED:20251223T172904Z
UID:33731-1771437600-1771441200@uumc-lc.org
SUMMARY:Ash Wednesday
DESCRIPTION:Join us for Ash Wednesday and Communion Service.
URL:https://uumc-lc.org/event/ash-wednesday-2/
LOCATION:University United Methodist Church\, 2000 S Locust St\, Las Cruces\, NM\, 88001\, United States
CATEGORIES:Special Events
ATTACH;FMTTYPE=image/jpeg:https://uumc-lc.org/wp-content/uploads/2025/12/Altar-communion-bread-wine-candles-bible-image8.jpeg
END:VEVENT
BEGIN:VEVENT
DTSTART;TZID=America/Denver:20260308T091500
DTEND;TZID=America/Denver:20260315T121500
DTSTAMP:20260422T164303
CREATED:20260223T203106Z
LAST-MODIFIED:20260223T204334Z
UID:33770-1772961300-1773576900@uumc-lc.org
SUMMARY:Bookfair
DESCRIPTION:Come and enjoy our Book Fair!! \nCome shop for amazing books and support our Bright Beginnings school. \nThere will be a wide selection of books for pre-K grade levels. \nRemember\, every purchase helps benefit our students and programs.
URL:https://uumc-lc.org/event/bookfair/
CATEGORIES:Special Events
ATTACH;FMTTYPE=image/png:https://uumc-lc.org/wp-content/uploads/2026/02/Bookfair-kids.png
END:VEVENT
BEGIN:VEVENT
DTSTART;TZID=America/Denver:20260315T180000
DTEND;TZID=America/Denver:20260315T193000
DTSTAMP:20260422T164303
CREATED:20260223T202512Z
LAST-MODIFIED:20260310T170006Z
UID:33767-1773597600-1773603000@uumc-lc.org
SUMMARY:Family Book Fair Night
DESCRIPTION:Bring the shole family and enjoy an evening filled with books.  This is a wonderful opportunity to explore great books with your child and help build a love for reading.
URL:https://uumc-lc.org/event/family-book-fair-night/
LOCATION:University United Methodist Church\, 2000 S Locust St\, Las Cruces\, NM\, 88001\, United States
ATTACH;FMTTYPE=image/jpeg:https://uumc-lc.org/wp-content/uploads/2026/02/BBLC-bookfair-pic-3.jpg
END:VEVENT
BEGIN:VEVENT
DTSTART;TZID=America/Denver:20260329T080000
DTEND;TZID=America/Denver:20260329T120000
DTSTAMP:20260422T164303
CREATED:20260211T171939Z
LAST-MODIFIED:20260211T171939Z
UID:33749-1774771200-1774785600@uumc-lc.org
SUMMARY:Palm Sunday
DESCRIPTION:Join us for Palm Sunday services at the Sanctuary. All are welcomed!
URL:https://uumc-lc.org/event/palm-sunday-2/
ATTACH;FMTTYPE=image/jpeg:https://uumc-lc.org/wp-content/uploads/2025/01/IMG_0486.jpeg
END:VEVENT
BEGIN:VEVENT
DTSTART;TZID=America/Denver:20260402T180000
DTEND;TZID=America/Denver:20260402T190000
DTSTAMP:20260422T164303
CREATED:20260211T173827Z
LAST-MODIFIED:20260211T174230Z
UID:33756-1775152800-1775156400@uumc-lc.org
SUMMARY:Maunday Thursday
DESCRIPTION:Join us for Maunday Thursday and Communion Service. \nAll are welcomed.
URL:https://uumc-lc.org/event/good-friday-3/
ATTACH;FMTTYPE=image/jpeg:https://uumc-lc.org/wp-content/uploads/2025/01/IMG_0829.jpg
END:VEVENT
BEGIN:VEVENT
DTSTART;TZID=America/Denver:20260403T180000
DTEND;TZID=America/Denver:20260403T190000
DTSTAMP:20260422T164303
CREATED:20260211T191523Z
LAST-MODIFIED:20260211T191523Z
UID:33762-1775239200-1775242800@uumc-lc.org
SUMMARY:Good Friday
DESCRIPTION:Join us for Good Friday Services in the Sanctuary and Communion Service. \nAll are welcomed! \n 
URL:https://uumc-lc.org/event/good-friday-4/
ATTACH;FMTTYPE=image/jpeg:https://uumc-lc.org/wp-content/uploads/2026/02/Good-Friday.jpg
END:VEVENT
BEGIN:VEVENT
DTSTART;TZID=America/Denver:20260405T080000
DTEND;TZID=America/Denver:20260405T120000
DTSTAMP:20260422T164303
CREATED:20260211T172635Z
LAST-MODIFIED:20260211T172851Z
UID:33751-1775376000-1775390400@uumc-lc.org
SUMMARY:Easter
DESCRIPTION:Join us for Easter Services. \nAll are welcomed!
URL:https://uumc-lc.org/event/good-friday-2/
ATTACH;FMTTYPE=image/jpeg:https://uumc-lc.org/wp-content/uploads/2025/03/Easter-egg-hung.jpg
END:VEVENT
BEGIN:VEVENT
DTSTART;TZID=America/Denver:20260422T171500
DTEND;TZID=America/Denver:20260422T193000
DTSTAMP:20260422T164303
CREATED:20260420T160237Z
LAST-MODIFIED:20260420T161438Z
UID:34045-1776878100-1776886200@uumc-lc.org
SUMMARY:Roundtable
DESCRIPTION:All mission leaders roundtable meeting.
URL:https://uumc-lc.org/event/roundtable/
CATEGORIES:Special Events
ATTACH;FMTTYPE=image/jpeg:https://uumc-lc.org/wp-content/uploads/2026/04/roundtable.jpg
END:VEVENT
BEGIN:VEVENT
DTSTART;TZID=America/Denver:20260426T094500
DTEND;TZID=America/Denver:20260426T104500
DTSTAMP:20260422T164303
CREATED:20260420T160504Z
LAST-MODIFIED:20260420T161358Z
UID:34047-1777196700-1777200300@uumc-lc.org
SUMMARY:Journey Brunch
DESCRIPTION:All are invited to Journey Brunch and wish Farwell to Brain Townsend. Please bring something to share.
URL:https://uumc-lc.org/event/journey-brunch/
LOCATION:University United Methodist Church\, 2000 S Locust St\, Las Cruces\, NM\, 88001\, United States
ATTACH;FMTTYPE=image/webp:https://uumc-lc.org/wp-content/uploads/2026/04/brunch.webp
END:VEVENT
BEGIN:VEVENT
DTSTART;TZID=America/Denver:20260503T083000
DTEND;TZID=America/Denver:20260503T230000
DTSTAMP:20260422T164303
CREATED:20260324T152245Z
LAST-MODIFIED:20260324T152245Z
UID:34008-1777797000-1777849200@uumc-lc.org
SUMMARY:Graduation Day 8:30am\, 945am and 11am
DESCRIPTION:Please join us for Graduation Day! We would love to have you and your family attend.
URL:https://uumc-lc.org/event/graduation-day-830am-945am-and-11am/
CATEGORIES:Special Events
ATTACH;FMTTYPE=image/jpeg:https://uumc-lc.org/wp-content/uploads/2026/03/Class-of-2026.jpg
END:VEVENT
BEGIN:VEVENT
DTSTART;TZID=America/Denver:20260503T173000
DTEND;TZID=America/Denver:20260503T183000
DTSTAMP:20260422T164303
CREATED:20260324T152439Z
LAST-MODIFIED:20260324T152439Z
UID:34011-1777829400-1777833000@uumc-lc.org
SUMMARY:Lasagne Dinner
DESCRIPTION:Please join us for Lasagne Dinner. All are welcome to attend.
URL:https://uumc-lc.org/event/lasagne-dinner/
CATEGORIES:Special Events
ATTACH;FMTTYPE=image/jpeg:https://uumc-lc.org/wp-content/uploads/2026/03/Lasagne-dinner.jpeg
END:VEVENT
BEGIN:VEVENT
DTSTART;TZID=America/Denver:20260503T183000
DTEND;TZID=America/Denver:20260503T193000
DTSTAMP:20260422T164303
CREATED:20260324T153107Z
LAST-MODIFIED:20260324T153107Z
UID:34014-1777833000-1777836600@uumc-lc.org
SUMMARY:Bell Concert
DESCRIPTION:Please join us for the Bell’s Concert. All are welcomed to attend and enjoy an evening of music.
URL:https://uumc-lc.org/event/bell-concert/
ATTACH;FMTTYPE=image/jpeg:https://uumc-lc.org/wp-content/uploads/2026/03/Bell-choir.jpeg
END:VEVENT
BEGIN:VEVENT
DTSTART;TZID=America/Denver:20260509T090000
DTEND;TZID=America/Denver:20260509T130000
DTSTAMP:20260422T164303
CREATED:20260409T152519Z
LAST-MODIFIED:20260409T162424Z
UID:34036-1778317200-1778331600@uumc-lc.org
SUMMARY:Youth/Young adult car wash (date is tentative)
DESCRIPTION:Help support our young people as they grow in faith and fellowship! \nBring your car for a wash and bless our youth ministry.
URL:https://uumc-lc.org/event/youth-young-adult-car-wash/
LOCATION:University United Methodist Church\, 2000 S Locust St\, Las Cruces\, NM\, 88001\, United States
CATEGORIES:Youth Connect
ATTACH;FMTTYPE=image/jpeg:https://uumc-lc.org/wp-content/uploads/2026/04/car-wash.jpeg
END:VEVENT
BEGIN:VEVENT
DTSTART;TZID=America/Denver:20260510T083000
DTEND;TZID=America/Denver:20260510T110000
DTSTAMP:20260422T164303
CREATED:20260324T153334Z
LAST-MODIFIED:20260324T153334Z
UID:34017-1778401800-1778410800@uumc-lc.org
SUMMARY:Mother's Day Sunday
DESCRIPTION:Please join our Sunday Service at 830\, 945 and 11am and celebrate our mother’s on their special day.
URL:https://uumc-lc.org/event/mothers-day-sunday/
CATEGORIES:Special Events
ATTACH;FMTTYPE=image/jpeg:https://uumc-lc.org/wp-content/uploads/2026/03/Mothers-day-26.jpeg
END:VEVENT
BEGIN:VEVENT
DTSTART;TZID=America/Denver:20260517T083000
DTEND;TZID=America/Denver:20260517T110000
DTSTAMP:20260422T164303
CREATED:20260324T153520Z
LAST-MODIFIED:20260324T153520Z
UID:34020-1779006600-1779015600@uumc-lc.org
SUMMARY:Ascension Sunday
DESCRIPTION:Please join us for our 830am\, 945am or 11am Sunday service for Ascension Sunday. All are welcomed!
URL:https://uumc-lc.org/event/ascension-sunday/
ATTACH;FMTTYPE=image/jpeg:https://uumc-lc.org/wp-content/uploads/2026/03/Ascension-day.jpeg
END:VEVENT
BEGIN:VEVENT
DTSTART;TZID=America/Denver:20260521T170000
DTEND;TZID=America/Denver:20260521T190000
DTSTAMP:20260422T164303
CREATED:20260420T161111Z
LAST-MODIFIED:20260420T161111Z
UID:34049-1779382800-1779390000@uumc-lc.org
SUMMARY:BBLC/UUMC Potluck picnic
DESCRIPTION:Join BBLC and UUMC for the annual potluck picnic. Please bring a dish to share and enjoy a meal with our church and school family.
URL:https://uumc-lc.org/event/bblc-uumc-potluck-picnic/
CATEGORIES:Special Events
ATTACH;FMTTYPE=image/webp:https://uumc-lc.org/wp-content/uploads/2026/04/picnic-basket.webp
END:VEVENT
BEGIN:VEVENT
DTSTART;TZID=America/Denver:20260524T083000
DTEND;TZID=America/Denver:20260524T110000
DTSTAMP:20260422T164303
CREATED:20260324T153657Z
LAST-MODIFIED:20260324T153657Z
UID:34023-1779611400-1779620400@uumc-lc.org
SUMMARY:Pentecost
DESCRIPTION:Please join our Sunday service at 830am\, 945am or 11am. All are welcomed to attend.
URL:https://uumc-lc.org/event/pentecost-2/
ATTACH;FMTTYPE=image/jpeg:https://uumc-lc.org/wp-content/uploads/2026/03/Pentecost.jpeg
END:VEVENT
END:VCALENDAR