BEGIN:VCALENDAR
VERSION:2.0
PRODID:-//University United Methodist Church - ECPv6.6.0.2//NONSGML v1.0//EN
CALSCALE:GREGORIAN
METHOD:PUBLISH
X-WR-CALNAME:University United Methodist Church
X-ORIGINAL-URL:https://uumc-lc.org
X-WR-CALDESC:Events for University United Methodist Church
REFRESH-INTERVAL;VALUE=DURATION:PT1H
X-Robots-Tag:noindex
X-PUBLISHED-TTL:PT1H
BEGIN:VTIMEZONE
TZID:America/Denver
BEGIN:DAYLIGHT
TZOFFSETFROM:-0700
TZOFFSETTO:-0600
TZNAME:MDT
DTSTART:20250309T090000
END:DAYLIGHT
BEGIN:STANDARD
TZOFFSETFROM:-0600
TZOFFSETTO:-0700
TZNAME:MST
DTSTART:20251102T080000
END:STANDARD
END:VTIMEZONE
BEGIN:VEVENT
DTSTART;TZID=America/Denver:20250622T163000
DTEND;TZID=America/Denver:20250622T180000
DTSTAMP:20260423T033046
CREATED:20250604T190046Z
LAST-MODIFIED:20250609T172518Z
UID:33519-1750609800-1750615200@uumc-lc.org
SUMMARY:Summer Fun Days
DESCRIPTION:Ready for Summer? \nSummer Evening Fun For families is just around the corner. \nPlease spread the word and check it out yourself. \nSunday Fun Days \nFun Starting June 8th through July 27th \nBring your favorite game and snack! \nThis is a wonderful opportunity to meet new friends and deepen old bonds with old friends!!
URL:https://uumc-lc.org/event/summer-fun-days-2/
LOCATION:University United Methodist Church\, 2000 S Locust St\, Las Cruces\, NM\, 88001\, United States
CATEGORIES:Special Events
ATTACH;FMTTYPE=image/png:https://uumc-lc.org/wp-content/uploads/2025/06/summer-fun-days.png
END:VEVENT
BEGIN:VEVENT
DTSTART;TZID=America/Denver:20250615T163000
DTEND;TZID=America/Denver:20250615T180000
DTSTAMP:20260423T033046
CREATED:20250604T185951Z
LAST-MODIFIED:20250609T172223Z
UID:33517-1750005000-1750010400@uumc-lc.org
SUMMARY:Summer Fun Days
DESCRIPTION:Ready for Summer? \nSummer Evening Fun For families is just around the corner. \nPlease spread the word and check it out yourself. \nSunday Fun Days \nFun Starting June 8th through July 27th \nBring your favorite game and snack! \nThis is a wonderful opportunity to meet new friends and deepen old bonds with old friends!!
URL:https://uumc-lc.org/event/summer-fun-days/
LOCATION:University United Methodist Church\, 2000 S Locust St\, Las Cruces\, NM\, 88001\, United States
CATEGORIES:Special Events
ATTACH;FMTTYPE=image/png:https://uumc-lc.org/wp-content/uploads/2025/06/summer-fun-days.png
END:VEVENT
BEGIN:VEVENT
DTSTART;TZID=America/Denver:20250615T113000
DTEND;TZID=America/Denver:20250615T113000
DTSTAMP:20260423T033046
CREATED:20250520T180139Z
LAST-MODIFIED:20250609T170003Z
UID:33501-1749987000-1749987000@uumc-lc.org
SUMMARY:Youth Send off to Arvada\, Colorado
DESCRIPTION:Come join us to send off our Youth group on their Mission Trip to Arvada Colorado.
URL:https://uumc-lc.org/event/youth-send-off-to-arvada-colorado/
LOCATION:University United Methodist Church\, 2000 S Locust St\, Las Cruces\, NM\, 88001\, United States
CATEGORIES:Special Events
ATTACH;FMTTYPE=image/jpeg:https://uumc-lc.org/wp-content/uploads/2025/05/Youth-Mission-group-2025.jpeg
END:VEVENT
BEGIN:VEVENT
DTSTART;VALUE=DATE:20250615
DTEND;VALUE=DATE:20250616
DTSTAMP:20260423T033046
CREATED:20250520T180453Z
LAST-MODIFIED:20250609T165856Z
UID:33504-1749945600-1750031999@uumc-lc.org
SUMMARY:Trinity Sunday\, Father's Day 8:30am &11:00am services
DESCRIPTION:
URL:https://uumc-lc.org/event/trinity-sunday-fathers-day/
CATEGORIES:Special Events
ATTACH;FMTTYPE=image/jpeg:https://uumc-lc.org/wp-content/uploads/2025/05/image-fathers-day.jpg
END:VEVENT
BEGIN:VEVENT
DTSTART;VALUE=DATE:20250615
DTEND;VALUE=DATE:20250616
DTSTAMP:20260423T033046
CREATED:20250604T184653Z
LAST-MODIFIED:20250609T165934Z
UID:33512-1749945600-1750031999@uumc-lc.org
SUMMARY:Class of 2025 Graduation Blessing 8:30am & 11:00am services
DESCRIPTION:Preschool Graduates-it’s your turn!! Come for a special recognition and blessing as we celebrate this amazing milestone with you. We can’t wait to see you there!!! It’s also Trinity Sunday and Father’s Day\, so there is plenty to celebrate for everyone!
URL:https://uumc-lc.org/event/class-of-2025-graduation-blessing/
LOCATION:University United Methodist Church\, 2000 S Locust St\, Las Cruces\, NM\, 88001\, United States
CATEGORIES:Special Events
ATTACH;FMTTYPE=image/jpeg:https://uumc-lc.org/wp-content/uploads/2025/04/graduate.jpeg
END:VEVENT
BEGIN:VEVENT
DTSTART;TZID=America/Denver:20250608T163000
DTEND;TZID=America/Denver:20250608T180000
DTSTAMP:20260423T033046
CREATED:20250604T185247Z
LAST-MODIFIED:20250604T185708Z
UID:33514-1749400200-1749405600@uumc-lc.org
SUMMARY:Sunday Fun Days
DESCRIPTION:Starting June 8th through July 27th \nBring your favorite game and snack! This is a wonderful opportunity to meet new friends and deepen bonds with old friends!
URL:https://uumc-lc.org/event/sunday-fun-days/
LOCATION:University United Methodist Church\, 2000 S Locust St\, Las Cruces\, NM\, 88001\, United States
CATEGORIES:Special Events
ATTACH;FMTTYPE=image/png:https://uumc-lc.org/wp-content/uploads/2025/06/summer-fun-days.png
END:VEVENT
BEGIN:VEVENT
DTSTART;TZID=America/Denver:20250608T083000
DTEND;TZID=America/Denver:20250608T110000
DTSTAMP:20260423T033046
CREATED:20250422T191412Z
LAST-MODIFIED:20250604T184225Z
UID:33491-1749371400-1749380400@uumc-lc.org
SUMMARY:Special Announcement! Festive Worship in honor of Pentecost
DESCRIPTION:This coming Sunday is Pentecost Sunday. UUMC commemorates the coming of the Holy Spirit. It is also the birthday of the Christian Chruch. What a day to celebrate together! Our musicians under the leadership of Bill Rhodes have prepared a service with choir\, brass\, percussion\, organ\, and piano. IT’s a little bit like Christmas and Easter in June…Come and worship. \nChildcare is provided. \nThis is a great Sunday to bring a neighbor or a friend. \n8:30am\, 9:45am\, 11:00am
URL:https://uumc-lc.org/event/festive-worship-in-honor-of-pentecost/
CATEGORIES:Special Events
ATTACH;FMTTYPE=image/jpeg:https://uumc-lc.org/wp-content/uploads/2025/04/Pentecost.jpg
END:VEVENT
BEGIN:VEVENT
DTSTART;TZID=America/Denver:20250518T083000
DTEND;TZID=America/Denver:20250518T110000
DTSTAMP:20260423T033046
CREATED:20250422T190902Z
LAST-MODIFIED:20250422T192107Z
UID:33483-1747557000-1747566000@uumc-lc.org
SUMMARY:2025 Graduation Sunday
DESCRIPTION:Service celebration of Graduating Seniors times: \n8:30am\, 9:45am\, 11:00am.
URL:https://uumc-lc.org/event/mothers-day-sunday-may-11/
LOCATION:University United Methodist Church\, 2000 S Locust St\, Las Cruces\, NM\, 88001\, United States
CATEGORIES:Special Events
ATTACH;FMTTYPE=image/jpeg:https://uumc-lc.org/wp-content/uploads/2025/04/graduate.jpeg
END:VEVENT
BEGIN:VEVENT
DTSTART;TZID=America/Denver:20250511T083000
DTEND;TZID=America/Denver:20250511T110000
DTSTAMP:20260423T033046
CREATED:20250422T191217Z
LAST-MODIFIED:20250422T192152Z
UID:33489-1746952200-1746961200@uumc-lc.org
SUMMARY:Mother's Day Sunday May 11
DESCRIPTION:Celebrating all Mother’s  during service times: \n8:30am\, 9:45am\, 11:00am.
URL:https://uumc-lc.org/event/mothers-day-sunday-may-11-2/
LOCATION:University United Methodist Church\, 2000 S Locust St\, Las Cruces\, NM\, 88001\, United States
CATEGORIES:Special Events
ATTACH;FMTTYPE=image/jpeg:https://uumc-lc.org/wp-content/uploads/2025/04/mothers-day.jpeg
END:VEVENT
BEGIN:VEVENT
DTSTART;TZID=America/Denver:20250504T183000
DTEND;TZID=America/Denver:20250504T193000
DTSTAMP:20260423T033046
CREATED:20250331T155924Z
LAST-MODIFIED:20250418T173501Z
UID:33452-1746383400-1746387000@uumc-lc.org
SUMMARY:Bell's Spring Concert
DESCRIPTION:Bells’ Spring Concert at 6:30pm.
URL:https://uumc-lc.org/event/bells-spring-concert/
LOCATION:University United Methodist Church\, 2000 S Locust St\, Las Cruces\, NM\, 88001\, United States
CATEGORIES:Special Events
ATTACH;FMTTYPE=image/jpeg:https://uumc-lc.org/wp-content/uploads/2025/03/IMG_1490.jpg
END:VEVENT
BEGIN:VEVENT
DTSTART;TZID=America/Denver:20250504T173000
DTEND;TZID=America/Denver:20250504T183000
DTSTAMP:20260423T033046
CREATED:20250331T155134Z
LAST-MODIFIED:20250422T202254Z
UID:33446-1746379800-1746383400@uumc-lc.org
SUMMARY:Spring Bell Concert and Lasagna Dinner
DESCRIPTION:Lasagna Dinner at 5:50pm in the Fellowship Hall. \nSpring Bell Concert at 6:30pm at the Church Sanctuary. \nDonations Accepted
URL:https://uumc-lc.org/event/lasagna-dinner/
LOCATION:University United Methodist Church\, 2000 S Locust St\, Las Cruces\, NM\, 88001\, United States
CATEGORIES:Special Events
ATTACH;FMTTYPE=image/jpeg:https://uumc-lc.org/wp-content/uploads/2025/03/Lasagna-dinner.jpg
END:VEVENT
BEGIN:VEVENT
DTSTART;TZID=America/Denver:20250420T110000
DTEND;TZID=America/Denver:20250420T120000
DTSTAMP:20260423T033046
CREATED:20250416T163028Z
LAST-MODIFIED:20250416T163028Z
UID:33472-1745146800-1745150400@uumc-lc.org
SUMMARY:Easter Sunday
DESCRIPTION:Celebrates the resurrection of Jesus\, the cornerstone of Christian faith symbolizing victory over sin and death.
URL:https://uumc-lc.org/event/easter-sunday-2/
LOCATION:University United Methodist Church\, 2000 S Locust St\, Las Cruces\, NM\, 88001\, United States
CATEGORIES:Special Events
ATTACH;FMTTYPE=image/jpeg:https://uumc-lc.org/wp-content/uploads/2025/01/IMG_4298-rotated.jpeg
END:VEVENT
BEGIN:VEVENT
DTSTART;TZID=America/Denver:20250420T094500
DTEND;TZID=America/Denver:20250420T104500
DTSTAMP:20260423T033046
CREATED:20250416T165333Z
LAST-MODIFIED:20250416T165333Z
UID:33478-1745142300-1745145900@uumc-lc.org
SUMMARY:Easter Sunday
DESCRIPTION:Celebrate the resurrection of Jesus\, the cornerstone of Christian faith symbolizing victory over sin and death.
URL:https://uumc-lc.org/event/easter-sunday-3/
LOCATION:University United Methodist Church\, 2000 S Locust St\, Las Cruces\, NM\, 88001\, United States
ATTACH;FMTTYPE=image/jpeg:https://uumc-lc.org/wp-content/uploads/2025/01/IMG_4298-rotated.jpeg
END:VEVENT
BEGIN:VEVENT
DTSTART;TZID=America/Denver:20250420T094500
DTEND;TZID=America/Denver:20250420T101500
DTSTAMP:20260423T033046
CREATED:20250310T191014Z
LAST-MODIFIED:20250331T202017Z
UID:33407-1745142300-1745144100@uumc-lc.org
SUMMARY:Easter Egg Hunt in the Garden
DESCRIPTION:Easter egg hunt in the garden.
URL:https://uumc-lc.org/event/easter-egg-hunt-in-the-garden/
LOCATION:University United Methodist Church\, 2000 S Locust St\, Las Cruces\, NM\, 88001\, United States
CATEGORIES:Garden Days,Special Events,Youth Connect
ATTACH;FMTTYPE=image/jpeg:https://uumc-lc.org/wp-content/uploads/2025/03/Easter-egg-hung.jpg
END:VEVENT
BEGIN:VEVENT
DTSTART;TZID=America/Denver:20250420T083000
DTEND;TZID=America/Denver:20250420T093000
DTSTAMP:20260423T033046
CREATED:20250107T194428Z
LAST-MODIFIED:20250416T162804Z
UID:33334-1745137800-1745141400@uumc-lc.org
SUMMARY:Easter Sunday
DESCRIPTION:Celebrates the resurrection of Jesus\, the cornerstone of Christian faith symbolizing victory over sin and death.
URL:https://uumc-lc.org/event/easter-sunday/
LOCATION:University United Methodist Church\, 2000 S Locust St\, Las Cruces\, NM\, 88001\, United States
CATEGORIES:Special Events
ATTACH;FMTTYPE=image/jpeg:https://uumc-lc.org/wp-content/uploads/2025/01/IMG_4298-rotated.jpeg
END:VEVENT
BEGIN:VEVENT
DTSTART;TZID=America/Denver:20250418T180000
DTEND;TZID=America/Denver:20250418T190000
DTSTAMP:20260423T033046
CREATED:20250107T194238Z
LAST-MODIFIED:20250331T201553Z
UID:33331-1744999200-1745002800@uumc-lc.org
SUMMARY:Good Friday
DESCRIPTION:Communion Service. We remember God’s sacrifice for us on the cross.
URL:https://uumc-lc.org/event/good-friday/
LOCATION:University United Methodist Church\, 2000 S Locust St\, Las Cruces\, NM\, 88001\, United States
CATEGORIES:Special Events
ATTACH;FMTTYPE=image/jpeg:https://uumc-lc.org/wp-content/uploads/2025/01/IMG_1395-rotated.jpeg
END:VEVENT
BEGIN:VEVENT
DTSTART;TZID=America/Denver:20250417T180000
DTEND;TZID=America/Denver:20250417T190000
DTSTAMP:20260423T033046
CREATED:20250107T194149Z
LAST-MODIFIED:20250331T201509Z
UID:33328-1744912800-1744916400@uumc-lc.org
SUMMARY:Maundy Thursday
DESCRIPTION:We remember the Last Supper Jesus shared with his disciples and his prayer in Gethsemane. \nCommunion Service
URL:https://uumc-lc.org/event/maundy-thursday/
LOCATION:University United Methodist Church\, 2000 S Locust St\, Las Cruces\, NM\, 88001\, United States
CATEGORIES:Special Events
ATTACH;FMTTYPE=image/jpeg:https://uumc-lc.org/wp-content/uploads/2025/01/IMG_0829.jpg
END:VEVENT
BEGIN:VEVENT
DTSTART;TZID=America/Denver:20250416T083000
DTEND;TZID=America/Denver:20250416T210000
DTSTAMP:20260423T033046
CREATED:20250311T170953Z
LAST-MODIFIED:20250331T201420Z
UID:33438-1744792200-1744837200@uumc-lc.org
SUMMARY:Communion Service in the Garden
DESCRIPTION:Communion Service in the Garden.
URL:https://uumc-lc.org/event/communion-service-in-the-garden-4/
LOCATION:University United Methodist Church\, 2000 S Locust St\, Las Cruces\, NM\, 88001\, United States
CATEGORIES:Special Events
ATTACH;FMTTYPE=image/jpeg:https://uumc-lc.org/wp-content/uploads/2025/03/community-garden.jpeg
END:VEVENT
BEGIN:VEVENT
DTSTART;TZID=America/Denver:20250413T083000
DTEND;TZID=America/Denver:20250413T123000
DTSTAMP:20260423T033046
CREATED:20250107T194011Z
LAST-MODIFIED:20250331T201339Z
UID:33325-1744533000-1744547400@uumc-lc.org
SUMMARY:Palm Sunday
DESCRIPTION:11am Palm Sunday Procession with children and baptisms. \nWorship with us the beginning of Holy Week\, Jesus’ triumphant entry into Jerusalem. \n 
URL:https://uumc-lc.org/event/palm-sunday/
LOCATION:University United Methodist Church\, 2000 S Locust St\, Las Cruces\, NM\, 88001\, United States
CATEGORIES:Special Events
ATTACH;FMTTYPE=image/jpeg:https://uumc-lc.org/wp-content/uploads/2025/01/IMG_3456-rotated.jpeg
END:VEVENT
BEGIN:VEVENT
DTSTART;TZID=America/Denver:20250409T190000
DTEND;TZID=America/Denver:20250409T210000
DTSTAMP:20260423T033046
CREATED:20250331T203236Z
LAST-MODIFIED:20250331T204719Z
UID:33465-1744225200-1744232400@uumc-lc.org
SUMMARY:Folk Charity Concert
DESCRIPTION:Support our partners in ministry.
URL:https://uumc-lc.org/event/folk-charity-concert/
LOCATION:CrucesCreatives\, 205 E Lohman\, Las Cruces\, NM\, 88001\, United States
ATTACH;FMTTYPE=image/png:https://uumc-lc.org/wp-content/uploads/2025/03/Chasity-Concert.png
END:VEVENT
BEGIN:VEVENT
DTSTART;TZID=America/Denver:20250409T083000
DTEND;TZID=America/Denver:20250409T090000
DTSTAMP:20260423T033046
CREATED:20250311T170738Z
LAST-MODIFIED:20250331T201132Z
UID:33436-1744187400-1744189200@uumc-lc.org
SUMMARY:Communion Service in the Garden
DESCRIPTION:Communion Service in the Garden.
URL:https://uumc-lc.org/event/communion-service-in-the-garden-3/
LOCATION:University United Methodist Church\, 2000 S Locust St\, Las Cruces\, NM\, 88001\, United States
ATTACH;FMTTYPE=image/jpeg:https://uumc-lc.org/wp-content/uploads/2025/03/community-garden.jpeg
END:VEVENT
BEGIN:VEVENT
DTSTART;TZID=America/Denver:20250406T093000
DTEND;TZID=America/Denver:20250406T123000
DTSTAMP:20260423T033046
CREATED:20250127T201241Z
LAST-MODIFIED:20250331T154108Z
UID:33348-1743931800-1743942600@uumc-lc.org
SUMMARY:Enchilada Fundraiser for the Youth Mission Trip
DESCRIPTION:Want to support our youth for their mission trip this summer? \nMark your calendar for April 6\, 2025. \nThe youth is treating us for a delicious Enchilada meal! All proceeds go towards their mission trip to Colorado this year. \nBring your appetite and a friend\, neighbor or family to enjoy a delicious lunch meal which will help the Youth Mission for their planned trip. \nCost: Donations accepted
URL:https://uumc-lc.org/event/enchilada-fundraiser-for-the-youth-mission-trip/
LOCATION:University United Methodist Church\, 2000 S Locust St\, Las Cruces\, NM\, 88001\, United States
CATEGORIES:Youth Connect
ATTACH;FMTTYPE=image/jpeg:https://uumc-lc.org/wp-content/uploads/2025/01/Enchilada-Fundraiser.jpg
END:VEVENT
BEGIN:VEVENT
DTSTART;TZID=America/Denver:20250402T083000
DTEND;TZID=America/Denver:20250402T090000
DTSTAMP:20260423T033046
CREATED:20250311T170525Z
LAST-MODIFIED:20250331T202205Z
UID:33434-1743582600-1743584400@uumc-lc.org
SUMMARY:Communion Service in the Garden
DESCRIPTION:Communion Service in the Garden.
URL:https://uumc-lc.org/event/communion-service-in-the-garden-2/
LOCATION:University United Methodist Church\, 2000 S Locust St\, Las Cruces\, NM\, 88001\, United States
CATEGORIES:Special Events
ATTACH;FMTTYPE=image/jpeg:https://uumc-lc.org/wp-content/uploads/2025/03/community-garden.jpeg
END:VEVENT
BEGIN:VEVENT
DTSTART;TZID=America/Denver:20250328T170000
DTEND;TZID=America/Denver:20250328T190000
DTSTAMP:20260423T033046
CREATED:20250310T165514Z
LAST-MODIFIED:20250310T201445Z
UID:33392-1743181200-1743188400@uumc-lc.org
SUMMARY:All Church 4-Star celebration!
DESCRIPTION:UUMC is celebrating its preschool’s 4-Star Achievement. \nWe’re raising the bar for our families and students!! \nNew Mexico early childhood licensing has a 5-star quality rating system for preschools & childcare centers. Each star level indicates an increase level of quality\, including in teacher education\, child assessment and engagement\, and intentionality and detail in planning and instruction. \nThe 4-Star milestone was achieved through the hard work and dedication of our amazing teachers and staff!
URL:https://uumc-lc.org/event/bright-beginnings/
LOCATION:University United Methodist Church\, 2000 S Locust St\, Las Cruces\, NM\, 88001\, United States
CATEGORIES:Special Events
ATTACH;FMTTYPE=image/jpeg:https://uumc-lc.org/wp-content/uploads/2025/03/bblc-vanco-image.jpg
END:VEVENT
BEGIN:VEVENT
DTSTART;TZID=America/Denver:20250326T083000
DTEND;TZID=America/Denver:20250326T090000
DTSTAMP:20260423T033046
CREATED:20250311T170415Z
LAST-MODIFIED:20250311T170415Z
UID:33432-1742977800-1742979600@uumc-lc.org
SUMMARY:Communion Service in the Garden
DESCRIPTION:Communion Service in the Garden at 830am every Wednesday in Lent
URL:https://uumc-lc.org/event/communion-service-in-the-garden/
LOCATION:University United Methodist Church\, 2000 S Locust St\, Las Cruces\, NM\, 88001\, United States
CATEGORIES:Special Events
ATTACH;FMTTYPE=image/jpeg:https://uumc-lc.org/wp-content/uploads/2025/03/community-garden.jpeg
END:VEVENT
BEGIN:VEVENT
DTSTART;TZID=America/Denver:20250319T083000
DTEND;TZID=America/Denver:20250319T090000
DTSTAMP:20260423T033046
CREATED:20250310T195724Z
LAST-MODIFIED:20250311T170217Z
UID:33417-1742373000-1742374800@uumc-lc.org
SUMMARY:Communion Service in the Garden
DESCRIPTION:Communion Service in the Garden at 830am every Wednesday in Lent.
URL:https://uumc-lc.org/event/every-wednesday-830am-in-lent/
LOCATION:University United Methodist Church\, 2000 S Locust St\, Las Cruces\, NM\, 88001\, United States
ATTACH;FMTTYPE=image/jpeg:https://uumc-lc.org/wp-content/uploads/2025/03/community-garden.jpeg
END:VEVENT
BEGIN:VEVENT
DTSTART;TZID=America/Denver:20250312T083000
DTEND;TZID=America/Denver:20250312T090000
DTSTAMP:20260423T033046
CREATED:20250310T192158Z
LAST-MODIFIED:20250311T170236Z
UID:33413-1741768200-1741770000@uumc-lc.org
SUMMARY:Communion Service in the Garden
DESCRIPTION:Communion Service in the Garden at 830am every Wednesday in Lent.
URL:https://uumc-lc.org/event/every-wednesday-communion-service-in-the-garden/
LOCATION:University United Methodist Church\, 2000 S Locust St\, Las Cruces\, NM\, 88001\, United States
CATEGORIES:Garden Days
ATTACH;FMTTYPE=image/jpeg:https://uumc-lc.org/wp-content/uploads/2025/03/community-garden.jpeg
END:VEVENT
BEGIN:VEVENT
DTSTART;VALUE=DATE:20250305
DTEND;VALUE=DATE:20250306
DTSTAMP:20260423T033046
CREATED:20250107T193840Z
LAST-MODIFIED:20250225T202920Z
UID:33322-1741132800-1741219199@uumc-lc.org
SUMMARY:Ash Wednesday
DESCRIPTION:Ready for Lent? Ash Wednesday is March 5\, 2025. Time to be reminded of our own fragility and God’s promise to walk us through his passion to the cross and an empty grave? \nAsh Wednesday services on March 5\, 2025 \n8:30am Communion Service in the Garden \n9-11am Open Sanctuary for individual prayer time and ashes \n6pm Communion Service in the Sanctuary \nPrayers during lent: Every Wednesday\, 8:30-9am in the garden. \n 
URL:https://uumc-lc.org/event/ash-wednesday/
LOCATION:University United Methodist Church\, 2000 S Locust St\, Las Cruces\, NM\, 88001\, United States
CATEGORIES:Special Events
ATTACH;FMTTYPE=image/jpeg:https://uumc-lc.org/wp-content/uploads/2025/01/IMG_0676.jpg
END:VEVENT
BEGIN:VEVENT
DTSTART;TZID=America/Denver:20250304T160000
DTEND;TZID=America/Denver:20250304T190000
DTSTAMP:20260423T033046
CREATED:20250225T201941Z
LAST-MODIFIED:20250225T202031Z
UID:33376-1741104000-1741114800@uumc-lc.org
SUMMARY:Shrove Tuesday Pancake Dinner
DESCRIPTION:Support our Wesley student ministry. Wesley Student Center at NMSU/DACC Tuesday\, March 4 from 4-7 p.m. donations welcome-cash and checks accepted.
URL:https://uumc-lc.org/event/shorve-tuesday-pancake-dinner/
LOCATION:Wesley Student Center\, 2425 Jordan Road\, Las Cruces\, 88001
CATEGORIES:Special Events
ATTACH;FMTTYPE=image/webp:https://uumc-lc.org/wp-content/uploads/2025/02/3pancake.webp
END:VEVENT
BEGIN:VEVENT
DTSTART;TZID=America/Denver:20250302T120000
DTEND;TZID=America/Denver:20250302T133000
DTSTAMP:20260423T033046
CREATED:20250225T200548Z
LAST-MODIFIED:20250225T200743Z
UID:33372-1740916800-1740922200@uumc-lc.org
SUMMARY:Church Potluck
DESCRIPTION:First Sunday of the month that we share a meal after the 11 o’clock service. Bring your favorite dish and a neighbor or friend\, and then we call it a Potluck.
URL:https://uumc-lc.org/event/church-potluck/
LOCATION:University United Methodist Church\, 2000 S Locust St\, Las Cruces\, NM\, 88001\, United States
CATEGORIES:Special Events
ATTACH;FMTTYPE=image/png:https://uumc-lc.org/wp-content/uploads/2025/01/church-potluck.png
END:VEVENT
END:VCALENDAR