BEGIN:VCALENDAR
VERSION:2.0
PRODID:-//University United Methodist Church - ECPv6.6.0.2//NONSGML v1.0//EN
CALSCALE:GREGORIAN
METHOD:PUBLISH
X-WR-CALNAME:University United Methodist Church
X-ORIGINAL-URL:https://uumc-lc.org
X-WR-CALDESC:Events for University United Methodist Church
REFRESH-INTERVAL;VALUE=DURATION:PT1H
X-Robots-Tag:noindex
X-PUBLISHED-TTL:PT1H
BEGIN:VTIMEZONE
TZID:America/Denver
BEGIN:DAYLIGHT
TZOFFSETFROM:-0700
TZOFFSETTO:-0600
TZNAME:MDT
DTSTART:20240310T090000
END:DAYLIGHT
BEGIN:STANDARD
TZOFFSETFROM:-0600
TZOFFSETTO:-0700
TZNAME:MST
DTSTART:20241103T080000
END:STANDARD
BEGIN:DAYLIGHT
TZOFFSETFROM:-0700
TZOFFSETTO:-0600
TZNAME:MDT
DTSTART:20250309T090000
END:DAYLIGHT
BEGIN:STANDARD
TZOFFSETFROM:-0600
TZOFFSETTO:-0700
TZNAME:MST
DTSTART:20251102T080000
END:STANDARD
END:VTIMEZONE
BEGIN:VEVENT
DTSTART;TZID=America/Denver:20250302T120000
DTEND;TZID=America/Denver:20250302T133000
DTSTAMP:20260423T054305
CREATED:20250225T200548Z
LAST-MODIFIED:20250225T200743Z
UID:33372-1740916800-1740922200@uumc-lc.org
SUMMARY:Church Potluck
DESCRIPTION:First Sunday of the month that we share a meal after the 11 o’clock service. Bring your favorite dish and a neighbor or friend\, and then we call it a Potluck.
URL:https://uumc-lc.org/event/church-potluck/
LOCATION:University United Methodist Church\, 2000 S Locust St\, Las Cruces\, NM\, 88001\, United States
CATEGORIES:Special Events
ATTACH;FMTTYPE=image/png:https://uumc-lc.org/wp-content/uploads/2025/01/church-potluck.png
END:VEVENT
BEGIN:VEVENT
DTSTART;TZID=America/Denver:20250224T180000
DTEND;TZID=America/Denver:20250224T200000
DTSTAMP:20260423T054305
CREATED:20250204T203202Z
LAST-MODIFIED:20250204T203202Z
UID:33367-1740420000-1740427200@uumc-lc.org
SUMMARY:Mayfield HS Choral Concert
DESCRIPTION:Come enjoy a concert with the Mayfield High School Choral at the Church Sanctuary.
URL:https://uumc-lc.org/event/mayfield-hs-choral-concert/
LOCATION:University United Methodist Church\, 2000 S Locust St\, Las Cruces\, NM\, 88001\, United States
CATEGORIES:Youth Connect
ATTACH;FMTTYPE=image/webp:https://uumc-lc.org/wp-content/uploads/2025/02/Mayfield-High-School.webp
END:VEVENT
BEGIN:VEVENT
DTSTART;TZID=America/Denver:20250215T090000
DTEND;TZID=America/Denver:20250215T130000
DTSTAMP:20260423T054305
CREATED:20250127T200106Z
LAST-MODIFIED:20250204T190332Z
UID:33341-1739610000-1739624400@uumc-lc.org
SUMMARY:Community Garden Day
DESCRIPTION:Did you know UUMC Community Garden is part of our school curriculum? \nTo get ready for spring we need volunteers to rake\, prune\, weed\, sweep\, trim\, and much more!! \nBring a chain saw\, a truck\, shovels & rakes\, or just yourself (and a water bottle). \nSee you there! For more information call (575) 640-7835. \nStay the whole time or drop by for an hour. Many hands make light work!!
URL:https://uumc-lc.org/event/community-garden-preparation-day/
LOCATION:University United Methodist Church\, 2000 S Locust St\, Las Cruces\, NM\, 88001\, United States
CATEGORIES:Garden Days
ATTACH;FMTTYPE=image/jpeg:https://uumc-lc.org/wp-content/uploads/2025/01/community-garden.jpeg
END:VEVENT
BEGIN:VEVENT
DTSTART;TZID=America/Denver:20250207T173000
DTEND;TZID=America/Denver:20250207T200000
DTSTAMP:20260423T054305
CREATED:20250204T202310Z
LAST-MODIFIED:20250204T203631Z
UID:33363-1738949400-1738958400@uumc-lc.org
SUMMARY:Valentine's Date Night
DESCRIPTION:REKINDLE THE ROMANCE while we provide some food and fun for children ages 18 months -11 years old (yes\, siblings are welcome!) Cost is $10 per child. \nSign-up by Friday February 7th to reserve a spot! \nPayment must be made in cash at time of drop-off (event contingent on number of children registered by Feb 7). \n 
URL:https://uumc-lc.org/event/valentines-date-night/
LOCATION:University United Methodist Church\, 2000 S Locust St\, Las Cruces\, NM\, 88001\, United States
ATTACH;FMTTYPE=image/jpeg:https://uumc-lc.org/wp-content/uploads/2025/02/date-night.jpg
END:VEVENT
BEGIN:VEVENT
DTSTART;TZID=America/Denver:20250203T090000
DTEND;TZID=America/Denver:20250213T150000
DTSTAMP:20260423T054305
CREATED:20250204T190012Z
LAST-MODIFIED:20250204T190012Z
UID:33357-1738573200-1739458800@uumc-lc.org
SUMMARY:Canned Food Drive
DESCRIPTION:Join in this friendly competition to fill-up “God’s Pantry”\, God’s Pantry provides groceries to local families. \nNeed some groceries? \nDrop by on the 1st and 3rd Friday of each month at 9am. \nWant to help? \nCall the church office at 575-522-8220 to sign up. (Everyone is welcome!)
URL:https://uumc-lc.org/event/canned-food-drive/
LOCATION:University United Methodist Church\, 2000 S Locust St\, Las Cruces\, NM\, 88001\, United States
CATEGORIES:Special Events
ATTACH;FMTTYPE=image/jpeg:https://uumc-lc.org/wp-content/uploads/2025/02/food-drive-2.jpg
END:VEVENT
BEGIN:VEVENT
DTSTART;TZID=America/Denver:20250202T120000
DTEND;TZID=America/Denver:20250202T140000
DTSTAMP:20260423T054305
CREATED:20250127T201857Z
LAST-MODIFIED:20250127T201857Z
UID:33351-1738497600-1738504800@uumc-lc.org
SUMMARY:Communion Sunday and Potluck Sunday
DESCRIPTION:Sunday\, February 2\, 2025 is Communion and Potluck Sunday. Bring a friend and taste the bread and the cup. Stay for a meal–a real Methodist potluck at noon.
URL:https://uumc-lc.org/event/communion-sunday-and-potluck-sunday/
LOCATION:University United Methodist Church\, 2000 S Locust St\, Las Cruces\, NM\, 88001\, United States
CATEGORIES:Special Events
ATTACH;FMTTYPE=image/png:https://uumc-lc.org/wp-content/uploads/2025/01/church-potluck.png
END:VEVENT
BEGIN:VEVENT
DTSTART;TZID=America/Denver:20250112T083000
DTEND;TZID=America/Denver:20250112T110000
DTSTAMP:20260423T054305
CREATED:20241231T164027Z
LAST-MODIFIED:20241231T164027Z
UID:33315-1736670600-1736679600@uumc-lc.org
SUMMARY:Installation of New Officers
DESCRIPTION:Join us for a beautiful Communion Worship when we introduce and pray over our leadership team for 2025 and thank the outgoing officers.
URL:https://uumc-lc.org/event/installation-of-new-officers/
LOCATION:University United Methodist Church\, 2000 S Locust St\, Las Cruces\, NM\, 88001\, United States
ATTACH;FMTTYPE=image/webp:https://uumc-lc.org/wp-content/uploads/2024/12/praying-over-man.webp
END:VEVENT
BEGIN:VEVENT
DTSTART;TZID=America/Denver:20250105T120000
DTEND;TZID=America/Denver:20250105T143000
DTSTAMP:20260423T054305
CREATED:20241231T163224Z
LAST-MODIFIED:20241231T163224Z
UID:33313-1736078400-1736087400@uumc-lc.org
SUMMARY:Potluck at UUMC
DESCRIPTION:Start your New Year with a good Methodist Potluck\, right after the 11am service\, and enjoy the fellowship and warmth of UUMC.
URL:https://uumc-lc.org/event/potluck-at-uumc/
LOCATION:University United Methodist Church\, 2000 S Locust St\, Las Cruces\, NM\, 88001\, United States
CATEGORIES:Special Events
ATTACH;FMTTYPE=image/jpeg:https://uumc-lc.org/wp-content/uploads/2024/07/UUMC_Event_Potluck.jpg
END:VEVENT
BEGIN:VEVENT
DTSTART;TZID=America/Denver:20250101T080000
DTEND;TZID=America/Denver:20250201T170000
DTSTAMP:20260423T054305
CREATED:20241231T164635Z
LAST-MODIFIED:20241231T164635Z
UID:33318-1735718400-1738429200@uumc-lc.org
SUMMARY:Epiphany Season at UUMC
DESCRIPTION:Did you know that the season of Epiphany stretches all the way until the end of February? \nYou have not “missed” Christmas\, we still have time to discover together the depth of God’s Light in this world. \nCome\, and join us for worship through these Sundays to encounter. \n“In HIM is life \nAnd the life was the light of the world. \nAnd the light shines in the darkness. \nAnd the darkness did not overcome it. ” John 1\, 4-5
URL:https://uumc-lc.org/event/epiphany-season-at-uumc/
LOCATION:University United Methodist Church\, 2000 S Locust St\, Las Cruces\, NM\, 88001\, United States
CATEGORIES:Special Events
ATTACH;FMTTYPE=image/jpeg:https://uumc-lc.org/wp-content/uploads/2024/12/Epiphany.jpg
END:VEVENT
BEGIN:VEVENT
DTSTART;TZID=America/Denver:20241231T150000
DTEND;TZID=America/Denver:20241231T170000
DTSTAMP:20260423T054305
CREATED:20241204T172551Z
LAST-MODIFIED:20241204T173553Z
UID:33308-1735657200-1735664400@uumc-lc.org
SUMMARY:New Year's Eve Service
DESCRIPTION:
URL:https://uumc-lc.org/event/new-years-eve-service/
LOCATION:University United Methodist Church\, 2000 S Locust St\, Las Cruces\, NM\, 88001\, United States
ATTACH;FMTTYPE=image/jpeg:https://uumc-lc.org/wp-content/uploads/2024/12/2025.jpg
END:VEVENT
BEGIN:VEVENT
DTSTART;TZID=America/Denver:20241224T160000
DTEND;TZID=America/Denver:20241224T180000
DTSTAMP:20260423T054305
CREATED:20241112T193537Z
LAST-MODIFIED:20241119T174054Z
UID:33291-1735056000-1735063200@uumc-lc.org
SUMMARY:Candlelight Christmas Eve Services
DESCRIPTION:Candlelight Christmas Eve Services with Choir and Brass under the leadership of Bill and Bev Rhodes. Childcare provided. Come and celebrate the birth of our Lord and Savior together with us. Enjoy the luminarias on our beautiful grounds on the way home.
URL:https://uumc-lc.org/event/candlelight-christmas-eve-services/
LOCATION:University United Methodist Church\, 2000 S Locust St\, Las Cruces\, NM\, 88001\, United States
CATEGORIES:Special Events
ATTACH;FMTTYPE=image/jpeg:https://uumc-lc.org/wp-content/uploads/2024/11/xmas-candlelight-service.jpg
END:VEVENT
BEGIN:VEVENT
DTSTART;TZID=America/Denver:20241217T180000
DTEND;TZID=America/Denver:20241217T200000
DTSTAMP:20260423T054305
CREATED:20241112T193224Z
LAST-MODIFIED:20241112T193224Z
UID:33288-1734458400-1734465600@uumc-lc.org
SUMMARY:Mayfield High School Choirs
DESCRIPTION:The Mayfield High School choirs are back at UUMC! \nWe are looking forward to a Holiday Selection under the leadership of Anton Mall.
URL:https://uumc-lc.org/event/mayfield-high-school-choirs/
CATEGORIES:Special Events
ATTACH;FMTTYPE=image/jpeg:https://uumc-lc.org/wp-content/uploads/2024/11/mayfield-choir.jpg
END:VEVENT
BEGIN:VEVENT
DTSTART;TZID=America/Denver:20241215T180000
DTEND;TZID=America/Denver:20241215T200000
DTSTAMP:20260423T054305
CREATED:20241112T192953Z
LAST-MODIFIED:20241119T173953Z
UID:33286-1734285600-1734292800@uumc-lc.org
SUMMARY:Advent Glow with "High Desert Christmas"
DESCRIPTION:Our worship team invites you once again to a beautiful evening filled with Bells\, stories\, Choir music and Carols in our festive Christmas Sanctuary at UUMC. Bring you family and enjoy!
URL:https://uumc-lc.org/event/advent-glow-with-high-desert-christmas/
LOCATION:University United Methodist Church\, 2000 S Locust St\, Las Cruces\, NM\, 88001\, United States
CATEGORIES:Special Events
ATTACH;FMTTYPE=image/webp:https://uumc-lc.org/wp-content/uploads/2024/11/ADVENT-GLOW-1.webp
END:VEVENT
BEGIN:VEVENT
DTSTART;TZID=America/Denver:20241204T080000
DTEND;TZID=America/Denver:20241204T083000
DTSTAMP:20260423T054305
CREATED:20241112T215157Z
LAST-MODIFIED:20241112T215157Z
UID:33296-1733299200-1733301000@uumc-lc.org
SUMMARY:Advent Prayer in the Garden
DESCRIPTION:Every Wednesday in this season of Advent we meet in our beautiful Community Garden for 30 minutes to a short devotion and communion. \n 
URL:https://uumc-lc.org/event/advent-prayer-in-the-garden/
CATEGORIES:Special Events
ATTACH;FMTTYPE=image/jpeg:https://uumc-lc.org/wp-content/uploads/2024/11/Community-Garden.jpg
END:VEVENT
BEGIN:VEVENT
DTSTART;TZID=America/Denver:20241201T120000
DTEND;TZID=America/Denver:20241201T170000
DTSTAMP:20260423T054305
CREATED:20241112T192718Z
LAST-MODIFIED:20241112T205327Z
UID:33283-1733054400-1733072400@uumc-lc.org
SUMMARY:Advent Potluck
DESCRIPTION:Advent Potluck at UUMC after church with festive music from our Hand Bell Choirs under the leadership of Eileen Gilbert.
URL:https://uumc-lc.org/event/advent-potluck/
LOCATION:University United Methodist Church\, 2000 S Locust St\, Las Cruces\, NM\, 88001\, United States
CATEGORIES:Special Events
ATTACH;FMTTYPE=image/jpeg:https://uumc-lc.org/wp-content/uploads/2024/07/UUMC_Event_Potluck.jpg
END:VEVENT
BEGIN:VEVENT
DTSTART;TZID=America/Denver:20241201T083000
DTEND;TZID=America/Denver:20241201T110000
DTSTAMP:20260423T054305
CREATED:20241112T215848Z
LAST-MODIFIED:20241119T174156Z
UID:33299-1733041800-1733050800@uumc-lc.org
SUMMARY:Four weeks of Advent Sundays December 1-22\, 2024
DESCRIPTION:Experience the beautiful tradition in worship\, the lighting of Advent candles on the Advent Wreath\, one Sunday at a time\, starting December 1\, 2024. The Advent wreath symbolizes the preparation for the nativity of our Lord. It reminds us of hope\, peace\, joy and love through its four candles\, each representing a week leading up to the birth of Christ.
URL:https://uumc-lc.org/event/four-weeks-of-advent-sundays-december-1-22-2024/
ATTACH;FMTTYPE=image/png:https://uumc-lc.org/wp-content/uploads/2024/11/advent-12.png
END:VEVENT
BEGIN:VEVENT
DTSTART;TZID=America/Denver:20241125T140000
DTEND;TZID=America/Denver:20241125T170000
DTSTAMP:20260423T054305
CREATED:20241105T161933Z
LAST-MODIFIED:20241105T163736Z
UID:33276-1732543200-1732554000@uumc-lc.org
SUMMARY:Greening of the Sanctuary
DESCRIPTION:Prepare for Advent and Christmas. Decorating of the trees in the Sancturary and the narthex area.
URL:https://uumc-lc.org/event/greening-of-the-sanctuary/
CATEGORIES:Special Events
ATTACH;FMTTYPE=image/jpeg:https://uumc-lc.org/wp-content/uploads/2024/11/Hanging-of-the-Greens_2022.12.01-1-rotated.jpeg
END:VEVENT
BEGIN:VEVENT
DTSTART;TZID=America/Denver:20241124T083000
DTEND;TZID=America/Denver:20241124T110000
DTSTAMP:20260423T054305
CREATED:20240924T173919Z
LAST-MODIFIED:20241028T185450Z
UID:33236-1732437000-1732446000@uumc-lc.org
SUMMARY:Thanksgiving Sunday and Church wide Bake Sale
DESCRIPTION:UUMC gives thanks for all the blessings God has given us. Bring your families and friends and give God the Glory! Services at 8:30am and 11:00am.
URL:https://uumc-lc.org/event/thanksgiving-sunday/
LOCATION:University United Methodist Church\, 2000 S Locust St\, Las Cruces\, NM\, 88001\, United States
CATEGORIES:Special Events
ATTACH;FMTTYPE=image/jpeg:https://uumc-lc.org/wp-content/uploads/2024/09/o-BAKE-SALE-facebook.jpg
END:VEVENT
BEGIN:VEVENT
DTSTART;TZID=America/Denver:20241110T083000
DTEND;TZID=America/Denver:20241110T110000
DTSTAMP:20260423T054305
CREATED:20240924T170551Z
LAST-MODIFIED:20240924T173004Z
UID:33221-1731227400-1731236400@uumc-lc.org
SUMMARY:Veteran's Sunday
DESCRIPTION:We honor our veterans who served for peace and justice. Come and join us at 8:30am or 11:00am for a special service to thank our veterans.
URL:https://uumc-lc.org/event/veterans-sunday/
LOCATION:University United Methodist Church\, 2000 S Locust St\, Las Cruces\, NM\, 88001\, United States
CATEGORIES:Special Events
ATTACH;FMTTYPE=image/jpeg:https://uumc-lc.org/wp-content/uploads/2024/09/Picture1.jpg
END:VEVENT
BEGIN:VEVENT
DTSTART;VALUE=DATE:20241103
DTEND;VALUE=DATE:20241104
DTSTAMP:20260423T054305
CREATED:20240924T165910Z
LAST-MODIFIED:20240924T172706Z
UID:33219-1730592000-1730678399@uumc-lc.org
SUMMARY:All Saints Day
DESCRIPTION:UUMC remembers all the saints that went home to be with our Lord and Savior. Join us for a beautiful candle lighting ceremony at 8:30am and 11:00am to remember the loved ones in your family.
URL:https://uumc-lc.org/event/all-saints-day/
LOCATION:University United Methodist Church\, 2000 S Locust St\, Las Cruces\, NM\, 88001\, United States
ATTACH;FMTTYPE=image/jpeg:https://uumc-lc.org/wp-content/uploads/2024/05/UUMC_WhatWeBelieve.jpg
END:VEVENT
BEGIN:VEVENT
DTSTART;VALUE=DATE:20241007
DTEND;VALUE=DATE:20241008
DTSTAMP:20260423T054305
CREATED:20240726T214852Z
LAST-MODIFIED:20240924T173201Z
UID:33189-1728259200-1728345599@uumc-lc.org
SUMMARY:Operation Christmas Child Kick Off
DESCRIPTION:We are ready for another season of partnering with Samaritan’s Purse to collect and send boxes of Christmas gifts to children all over the world. Please return your gift boxes no later than Nov. 17\, 2024.
URL:https://uumc-lc.org/event/operation-christmas-child-kick-off/
LOCATION:University United Methodist Church\, 2000 S Locust St\, Las Cruces\, NM\, 88001\, United States
CATEGORIES:Special Events
ATTACH;FMTTYPE=image/jpeg:https://uumc-lc.org/wp-content/uploads/2024/07/UUMC_Event_OCC.jpg
END:VEVENT
BEGIN:VEVENT
DTSTART;TZID=America/Denver:20240919T180000
DTEND;TZID=America/Denver:20240919T200000
DTSTAMP:20260423T054305
CREATED:20240726T214749Z
LAST-MODIFIED:20240726T214749Z
UID:33186-1726768800-1726776000@uumc-lc.org
SUMMARY:Charge Conference
DESCRIPTION:
URL:https://uumc-lc.org/event/charge-conference/
LOCATION:University United Methodist Church\, 2000 S Locust St\, Las Cruces\, NM\, 88001\, United States
CATEGORIES:Conferences
ATTACH;FMTTYPE=image/jpeg:https://uumc-lc.org/wp-content/uploads/2024/07/UUMC_Event_Church.jpg
END:VEVENT
BEGIN:VEVENT
DTSTART;TZID=America/Denver:20240915T083000
DTEND;TZID=America/Denver:20240915T110000
DTSTAMP:20260423T054305
CREATED:20240726T214605Z
LAST-MODIFIED:20240726T214605Z
UID:33182-1726389000-1726398000@uumc-lc.org
SUMMARY:Kick Off Sunday
DESCRIPTION:Back upon great demand: We “kick off” the new season of music and worship after the summer break with an abundance of music and musicians in worship. “Come\, Let Us Sing”\, “Carry the Light”\, “King of Kings”\, and “Yahwe” will enrich our festive traditional services as our choir\, handbells\, brass\, percussion\, organ and piano under the leadership of Bill and Bev Rodes  fill the sanctuary. A good day to come back to church – and bring a neighbor too\, who needs to hear just that.   \n \n 
URL:https://uumc-lc.org/event/kick-off-sunday/
LOCATION:University United Methodist Church\, 2000 S Locust St\, Las Cruces\, NM\, 88001\, United States
CATEGORIES:Special Events
ATTACH;FMTTYPE=image/jpeg:https://uumc-lc.org/wp-content/uploads/2024/07/UUMC_Event_MusicDirector.jpg
END:VEVENT
BEGIN:VEVENT
DTSTART;TZID=America/Denver:20240908T094500
DTEND;TZID=America/Denver:20240908T140000
DTSTAMP:20260423T054305
CREATED:20240726T214353Z
LAST-MODIFIED:20240726T214353Z
UID:33179-1725788700-1725804000@uumc-lc.org
SUMMARY:Ministry Fair
DESCRIPTION:Did you know that UUMC has more than 25 ministries to get engaged in? As students of God’s big plan we are entitled to transform our community. Men and women and children can see and feel that God wants them to live in abundance – both now and after life. On Sept 8\, 9:45 -1 pm we celebrate and display our ministry opportunities. And there is something for everyone to become part of\, from choir to soup kitchen to ramp builders to meal makers\, from nursery workers to prayer groups to home communion team to a prayer shawl team. Come\, join the community garden team\, become part of a women’s group\, join handbells or volunteer in our preschool… Curious? – O and there will be food to share too. Bring your favorite dish and make some new friends at the potluck at 12pm. 
URL:https://uumc-lc.org/event/ministry-fair/
LOCATION:University United Methodist Church\, 2000 S Locust St\, Las Cruces\, NM\, 88001\, United States
CATEGORIES:Special Events
ATTACH;FMTTYPE=image/jpeg:https://uumc-lc.org/wp-content/uploads/2024/07/UUMC_Event_Ramp.jpg
END:VEVENT
BEGIN:VEVENT
DTSTART;TZID=America/Denver:20240804T120000
DTEND;TZID=America/Denver:20240804T140000
DTSTAMP:20260423T054305
CREATED:20240726T214146Z
LAST-MODIFIED:20240726T214146Z
UID:33176-1722772800-1722780000@uumc-lc.org
SUMMARY:Potluck
DESCRIPTION:Join us for a time of fellowship and make some new friends right after church. Come as you are – grab a plate on the go or stay for an hour and share life.
URL:https://uumc-lc.org/event/potluck-2/
LOCATION:University United Methodist Church\, 2000 S Locust St\, Las Cruces\, NM\, 88001\, United States
CATEGORIES:Special Events
ATTACH;FMTTYPE=image/jpeg:https://uumc-lc.org/wp-content/uploads/2024/07/UUMC_Event_Potluck.jpg
END:VEVENT
BEGIN:VEVENT
DTSTART;TZID=America/Denver:20240602T120000
DTEND;TZID=America/Denver:20240602T140000
DTSTAMP:20260423T054305
CREATED:20240521T135514Z
LAST-MODIFIED:20240521T135802Z
UID:32634-1717329600-1717336800@uumc-lc.org
SUMMARY:Potluck
DESCRIPTION:Join us for a potluck on Sunday after the service!
URL:https://uumc-lc.org/event/potluck/
LOCATION:University United Methodist Church\, 2000 S Locust St\, Las Cruces\, NM\, 88001\, United States
CATEGORIES:Special Events
ATTACH;FMTTYPE=image/jpeg:https://uumc-lc.org/wp-content/uploads/2024/05/UUMC_Potluck.jpg
END:VEVENT
BEGIN:VEVENT
DTSTART;VALUE=DATE:20240601
DTEND;VALUE=DATE:20240609
DTSTAMP:20260423T054305
CREATED:20240521T135607Z
LAST-MODIFIED:20240521T135607Z
UID:32636-1717200000-1717891199@uumc-lc.org
SUMMARY:Youth Connect Mission Trip
DESCRIPTION:Youth Connect Mission Trip to Tucson\, AZ
URL:https://uumc-lc.org/event/youth-connect-mission-trip/
CATEGORIES:Youth Connect
ATTACH;FMTTYPE=image/jpeg:https://uumc-lc.org/wp-content/uploads/2024/05/UUMC_WeCelebrate_Youth.jpg
END:VEVENT
BEGIN:VEVENT
DTSTART;TZID=America/Denver:20240519T083000
DTEND;TZID=America/Denver:20240519T120000
DTSTAMP:20260423T054305
CREATED:20240521T135349Z
LAST-MODIFIED:20240816T164103Z
UID:32632-1716107400-1716120000@uumc-lc.org
SUMMARY:Pentecost
DESCRIPTION:Join us for festive worship for Pentecost. Our service times are 8:30\, 9:45\, and 11am.
URL:https://uumc-lc.org/event/pentecost/
LOCATION:University United Methodist Church\, 2000 S Locust St\, Las Cruces\, NM\, 88001\, United States
CATEGORIES:Special Events
ATTACH;FMTTYPE=image/jpeg:https://uumc-lc.org/wp-content/uploads/2024/05/UUMC_Give.jpg
END:VEVENT
BEGIN:VEVENT
DTSTART;TZID=America/Denver:20240518T080000
DTEND;TZID=America/Denver:20240518T120000
DTSTAMP:20260423T054305
CREATED:20240516T170339Z
LAST-MODIFIED:20240521T135206Z
UID:32382-1716019200-1716033600@uumc-lc.org
SUMMARY:All Church Garden Day
DESCRIPTION:Come work with us in the garden!
URL:https://uumc-lc.org/event/garden-day/
LOCATION:University United Methodist Church\, 2000 S Locust St\, Las Cruces\, NM\, 88001\, United States
CATEGORIES:Garden Days
ATTACH;FMTTYPE=image/jpeg:https://uumc-lc.org/wp-content/uploads/2024/05/UUMC_FlowersHero.jpg
END:VEVENT
END:VCALENDAR