BEGIN:VCALENDAR
VERSION:2.0
PRODID:-//University United Methodist Church - ECPv6.6.0.2//NONSGML v1.0//EN
CALSCALE:GREGORIAN
METHOD:PUBLISH
X-WR-CALNAME:University United Methodist Church
X-ORIGINAL-URL:https://uumc-lc.org
X-WR-CALDESC:Events for University United Methodist Church
REFRESH-INTERVAL;VALUE=DURATION:PT1H
X-Robots-Tag:noindex
X-PUBLISHED-TTL:PT1H
BEGIN:VTIMEZONE
TZID:America/Denver
BEGIN:DAYLIGHT
TZOFFSETFROM:-0700
TZOFFSETTO:-0600
TZNAME:MDT
DTSTART:20240310T090000
END:DAYLIGHT
BEGIN:STANDARD
TZOFFSETFROM:-0600
TZOFFSETTO:-0700
TZNAME:MST
DTSTART:20241103T080000
END:STANDARD
END:VTIMEZONE
BEGIN:VEVENT
DTSTART;TZID=America/Denver:20241215T180000
DTEND;TZID=America/Denver:20241215T200000
DTSTAMP:20260420T143733
CREATED:20241112T192953Z
LAST-MODIFIED:20241119T173953Z
UID:33286-1734285600-1734292800@uumc-lc.org
SUMMARY:Advent Glow with "High Desert Christmas"
DESCRIPTION:Our worship team invites you once again to a beautiful evening filled with Bells\, stories\, Choir music and Carols in our festive Christmas Sanctuary at UUMC. Bring you family and enjoy!
URL:https://uumc-lc.org/event/advent-glow-with-high-desert-christmas/
LOCATION:University United Methodist Church\, 2000 S Locust St\, Las Cruces\, NM\, 88001\, United States
CATEGORIES:Special Events
ATTACH;FMTTYPE=image/webp:https://uumc-lc.org/wp-content/uploads/2024/11/ADVENT-GLOW-1.webp
END:VEVENT
END:VCALENDAR