BEGIN:VCALENDAR
VERSION:2.0
PRODID:-//University United Methodist Church - ECPv6.6.0.2//NONSGML v1.0//EN
CALSCALE:GREGORIAN
METHOD:PUBLISH
X-WR-CALNAME:University United Methodist Church
X-ORIGINAL-URL:https://uumc-lc.org
X-WR-CALDESC:Events for University United Methodist Church
REFRESH-INTERVAL;VALUE=DURATION:PT1H
X-Robots-Tag:noindex
X-PUBLISHED-TTL:PT1H
BEGIN:VTIMEZONE
TZID:America/Denver
BEGIN:DAYLIGHT
TZOFFSETFROM:-0700
TZOFFSETTO:-0600
TZNAME:MDT
DTSTART:20250309T090000
END:DAYLIGHT
BEGIN:STANDARD
TZOFFSETFROM:-0600
TZOFFSETTO:-0700
TZNAME:MST
DTSTART:20251102T080000
END:STANDARD
END:VTIMEZONE
BEGIN:VEVENT
DTSTART;VALUE=DATE:20250921
DTEND;VALUE=DATE:20250922
DTSTAMP:20260420T065938
CREATED:20250915T153822Z
LAST-MODIFIED:20250915T173029Z
UID:33639-1758412800-1758499199@uumc-lc.org
SUMMARY:Kairos Cookie Drive Wrap up
DESCRIPTION:Kairos is a program like the Walk to Emmaus and similar programs\, that hosts a 4-day event inside prisons to help build communities of faith within the prison population. Locally\, a team of men are preparing to host a Kairos weekend inside the Southern New Mexico Correctional Facility\, just outside Las Cruces\, September 25-28\, with a team of men and women supporting them outside the prison. It is an incredible experience and there are many ways you can support this team. We need people for prayer vigils\, to write prayer messages\, to bake cookies\, to decorate placements\, to donate money\, and much more.
URL:https://uumc-lc.org/event/kairos-cookie-drive-wrap-up/
CATEGORIES:Special Events
ATTACH;FMTTYPE=image/jpeg:https://uumc-lc.org/wp-content/uploads/2025/09/Kairos-ookies.jpeg
END:VEVENT
END:VCALENDAR