BEGIN:VCALENDAR
VERSION:2.0
PRODID:-//University United Methodist Church - ECPv6.6.0.2//NONSGML v1.0//EN
CALSCALE:GREGORIAN
METHOD:PUBLISH
X-WR-CALNAME:University United Methodist Church
X-ORIGINAL-URL:https://uumc-lc.org
X-WR-CALDESC:Events for University United Methodist Church
REFRESH-INTERVAL;VALUE=DURATION:PT1H
X-Robots-Tag:noindex
X-PUBLISHED-TTL:PT1H
BEGIN:VTIMEZONE
TZID:America/Denver
BEGIN:DAYLIGHT
TZOFFSETFROM:-0700
TZOFFSETTO:-0600
TZNAME:MDT
DTSTART:20240310T090000
END:DAYLIGHT
BEGIN:STANDARD
TZOFFSETFROM:-0600
TZOFFSETTO:-0700
TZNAME:MST
DTSTART:20241103T080000
END:STANDARD
END:VTIMEZONE
BEGIN:VEVENT
DTSTART;TZID=America/Denver:20241217T180000
DTEND;TZID=America/Denver:20241217T200000
DTSTAMP:20260420T125903
CREATED:20241112T193224Z
LAST-MODIFIED:20241112T193224Z
UID:33288-1734458400-1734465600@uumc-lc.org
SUMMARY:Mayfield High School Choirs
DESCRIPTION:The Mayfield High School choirs are back at UUMC! \nWe are looking forward to a Holiday Selection under the leadership of Anton Mall.
URL:https://uumc-lc.org/event/mayfield-high-school-choirs/
CATEGORIES:Special Events
ATTACH;FMTTYPE=image/jpeg:https://uumc-lc.org/wp-content/uploads/2024/11/mayfield-choir.jpg
END:VEVENT
END:VCALENDAR