BEGIN:VCALENDAR
VERSION:2.0
PRODID:-//University United Methodist Church - ECPv6.6.0.2//NONSGML v1.0//EN
CALSCALE:GREGORIAN
METHOD:PUBLISH
X-WR-CALNAME:University United Methodist Church
X-ORIGINAL-URL:https://uumc-lc.org
X-WR-CALDESC:Events for University United Methodist Church
REFRESH-INTERVAL;VALUE=DURATION:PT1H
X-Robots-Tag:noindex
X-PUBLISHED-TTL:PT1H
BEGIN:VTIMEZONE
TZID:America/Denver
BEGIN:DAYLIGHT
TZOFFSETFROM:-0700
TZOFFSETTO:-0600
TZNAME:MDT
DTSTART:20250309T090000
END:DAYLIGHT
BEGIN:STANDARD
TZOFFSETFROM:-0600
TZOFFSETTO:-0700
TZNAME:MST
DTSTART:20251102T080000
END:STANDARD
END:VTIMEZONE
BEGIN:VEVENT
DTSTART;VALUE=DATE:20251012
DTEND;VALUE=DATE:20251013
DTSTAMP:20260420T065619
CREATED:20250812T200604Z
LAST-MODIFIED:20250818T195254Z
UID:33563-1760227200-1760313599@uumc-lc.org
SUMMARY:"Operation Christmas Child" Kick Off 8:30am\, 9:45am\, 11am
DESCRIPTION:We share the love of God with the children in the world. \nCall the office if you want to participate.
URL:https://uumc-lc.org/event/operation-christmas-child-kick-off-830am-945am-11am/
ATTACH;FMTTYPE=image/png:https://uumc-lc.org/wp-content/uploads/2025/08/Operation-xmas-child.png
END:VEVENT
END:VCALENDAR